BEGIN:VCALENDAR
VERSION:2.0
PRODID:-//InvisionCommunity Events 4.7.23//EN
METHOD:PUBLISH
CALSCALE:GREGORIAN
REFRESH-INTERVAL:PT15M
X-PUBLISHED-TTL:PT15M
X-WR-CALNAME:Pogdesign
NAME:Pogdesign
BEGIN:VTIMEZONE
TZID:Europe/London
TZURL:http://tzurl.org/zoneinfo/Europe/London
X-LIC-LOCATION:Europe/London
BEGIN:DAYLIGHT
TZOFFSETFROM:+0000
TZOFFSETTO:+0100
TZNAME:BST
DTSTART:20220327T020000Z
RRULE:FREQ=YEARLY;BYMONTH=3;BYDAY=-1SU
END:DAYLIGHT
BEGIN:STANDARD
TZOFFSETFROM:+0100
TZOFFSETTO:+0000
TZNAME:GMT
DTSTART:20221030T020000Z
RRULE:FREQ=YEARLY;BYMONTH=10;BYDAY=-1SU
END:STANDARD
END:VTIMEZONE
BEGIN:VEVENT
SUMMARY:All American: Homecoming 1x7 - Godspeed
DTSTAMP:20220329T044004Z
SEQUENCE:0
UID:140752-3-841ebed20eb198c4569419e99b7bf40a@themidnightzone.com
ORGANIZER;CN="Midnight":midnight@themidnightzone.com
DESCRIPTION:When Simone is faced with her first college level tournament
	\,she learns she has to conquer an unexpected bigger foe and getssome sage
	 advice from Thea. Damon struggles with an assignmentas it hits a little t
	oo close to home when it triggers some ofhis insecurities. As JR re-examin
	es his identity\, he getsadvice from an unexpected source. Amara continues
	 to fight herbattle with President Allen and Bringston in her own way.Mean
	while\, the gang rallies around Keisha as she tries tonavigate her late mo
	m's birthday on her own since herrelationship with her father is strained.
DTSTART:20220411T210000Z
DTEND:20220411T220000Z
END:VEVENT
END:VCALENDAR
