BEGIN:VCALENDAR
VERSION:2.0
PRODID:-//InvisionCommunity Events 4.7.23//EN
METHOD:PUBLISH
CALSCALE:GREGORIAN
REFRESH-INTERVAL:PT15M
X-PUBLISHED-TTL:PT15M
X-WR-CALNAME:Pogdesign
NAME:Pogdesign
BEGIN:VTIMEZONE
TZID:Europe/London
TZURL:http://tzurl.org/zoneinfo/Europe/London
X-LIC-LOCATION:Europe/London
BEGIN:DAYLIGHT
TZOFFSETFROM:+0000
TZOFFSETTO:+0100
TZNAME:BST
DTSTART:20220327T020000Z
RRULE:FREQ=YEARLY;BYMONTH=3;BYDAY=-1SU
END:DAYLIGHT
BEGIN:STANDARD
TZOFFSETFROM:+0100
TZOFFSETTO:+0000
TZNAME:GMT
DTSTART:20221030T020000Z
RRULE:FREQ=YEARLY;BYMONTH=10;BYDAY=-1SU
END:STANDARD
END:VTIMEZONE
BEGIN:VEVENT
SUMMARY:All American 4x14 - Changes
DTSTAMP:20220329T044004Z
SEQUENCE:0
UID:140756-3-841ebed20eb198c4569419e99b7bf40a@themidnightzone.com
ORGANIZER;CN="Midnight":midnight@themidnightzone.com
DESCRIPTION:Spencer continues to try and prove himself during practices\
	,which seems to go unnoticed\, but when a fellow GAU athleteoffers to help
	 him form a different plan to get back on thefield\, he considers it. Coop
	 begins a new job at a nursinghome and gets some sage advice from an elder
	ly woman. With theencouragement of Asher\, JJ gets a tutor which helps him
	confront a vulnerable time in his past through his term paper.Olivia is fr
	ustrated with her living situation\, but also findssome inspiration for he
	r next article. Meanwhile\, Laura formsa criminal defense law venture in t
	he community but strugglesto find her footing.
DTSTART:20220411T200000Z
DTEND:20220411T210000Z
END:VEVENT
END:VCALENDAR
