BEGIN:VCALENDAR
VERSION:2.0
PRODID:-//InvisionCommunity Events 4.7.23//EN
METHOD:PUBLISH
CALSCALE:GREGORIAN
REFRESH-INTERVAL:PT15M
X-PUBLISHED-TTL:PT15M
X-WR-CALNAME:Pogdesign
NAME:Pogdesign
BEGIN:VTIMEZONE
TZID:Europe/London
TZURL:http://tzurl.org/zoneinfo/Europe/London
X-LIC-LOCATION:Europe/London
BEGIN:DAYLIGHT
TZOFFSETFROM:+0000
TZOFFSETTO:+0100
TZNAME:BST
DTSTART:20220327T020000Z
RRULE:FREQ=YEARLY;BYMONTH=3;BYDAY=-1SU
END:DAYLIGHT
BEGIN:STANDARD
TZOFFSETFROM:+0100
TZOFFSETTO:+0000
TZNAME:GMT
DTSTART:20221030T020000Z
RRULE:FREQ=YEARLY;BYMONTH=10;BYDAY=-1SU
END:STANDARD
END:VTIMEZONE
BEGIN:VEVENT
SUMMARY:The Goldbergs 9x18 - School-ercise
DTSTAMP:20220331T044004Z
SEQUENCE:0
UID:140848-3-841ebed20eb198c4569419e99b7bf40a@themidnightzone.com
ORGANIZER;CN="Midnight":midnight@themidnightzone.com
DESCRIPTION:When Beverly steps in for PE coach at William Penn Academy\,
	Adam reluctantly takes her Jazzercise class. He is surprised tofind enjoym
	ent in it\, until Beverly suffers an embarrassingincident\, causing Adam t
	he ultimate humiliation. Brea steps into show Adam his mother's good inten
	tions and he ultimatelycomes to her defense. Meanwhile\, Barry and Geoff f
	indthemselves both up for the same medical internship\, whichcreates confl
	ict in their budding friendship.
DTSTART:20220413T200000Z
DTEND:20220413T203000Z
END:VEVENT
END:VCALENDAR
