BEGIN:VCALENDAR
VERSION:2.0
PRODID:-//InvisionCommunity Events 4.7.23//EN
METHOD:PUBLISH
CALSCALE:GREGORIAN
REFRESH-INTERVAL:PT15M
X-PUBLISHED-TTL:PT15M
X-WR-CALNAME:At My TV
NAME:At My TV
BEGIN:VTIMEZONE
TZID:Europe/London
TZURL:http://tzurl.org/zoneinfo/Europe/London
X-LIC-LOCATION:Europe/London
BEGIN:DAYLIGHT
TZOFFSETFROM:+0000
TZOFFSETTO:+0100
TZNAME:BST
DTSTART:20220327T020000Z
RRULE:FREQ=YEARLY;BYMONTH=3;BYDAY=-1SU
END:DAYLIGHT
BEGIN:STANDARD
TZOFFSETFROM:+0100
TZOFFSETTO:+0000
TZNAME:GMT
DTSTART:20221030T020000Z
RRULE:FREQ=YEARLY;BYMONTH=10;BYDAY=-1SU
END:STANDARD
END:VTIMEZONE
BEGIN:VEVENT
SUMMARY:Travel Man: 48 Hours in... 10x2 - Travel Man: 48 Hours In Sp
	lit
DTSTAMP:20220404T083655Z
SEQUENCE:0
UID:141152-2-841ebed20eb198c4569419e99b7bf40a@themidnightzone.com
ORGANIZER;CN="Midnight":midnight@themidnightzone.com
DESCRIPTION:Joe Lycett is joined by Aisling Bea for a trip to the Croati
	ancity of Split\, where they go on a dog walk organised by alocal animal s
	helter\, try their hand at paddleboarding andvisit a museum of stuffed fro
	gs. They also learn to prepare alocal fish dish despite neither of them li
	king seafood\, andexplore the maze of alleys and squares that were once a 
	palacebuilt by the Roman emperor Diocletian.
DTSTART:20220411T193000Z
DTEND:20220411T200000Z
END:VEVENT
END:VCALENDAR
