BEGIN:VCALENDAR
VERSION:2.0
PRODID:-//InvisionCommunity Events 4.7.23//EN
METHOD:PUBLISH
CALSCALE:GREGORIAN
REFRESH-INTERVAL:PT15M
X-PUBLISHED-TTL:PT15M
X-WR-CALNAME:Pogdesign
NAME:Pogdesign
BEGIN:VTIMEZONE
TZID:Europe/London
TZURL:http://tzurl.org/zoneinfo/Europe/London
X-LIC-LOCATION:Europe/London
BEGIN:DAYLIGHT
TZOFFSETFROM:+0000
TZOFFSETTO:+0100
TZNAME:BST
DTSTART:20220327T020000Z
RRULE:FREQ=YEARLY;BYMONTH=3;BYDAY=-1SU
END:DAYLIGHT
BEGIN:STANDARD
TZOFFSETFROM:+0100
TZOFFSETTO:+0000
TZNAME:GMT
DTSTART:20221030T020000Z
RRULE:FREQ=YEARLY;BYMONTH=10;BYDAY=-1SU
END:STANDARD
END:VTIMEZONE
BEGIN:VEVENT
SUMMARY:All American: Homecoming 1x8 - Ordinary People
DTSTAMP:20220405T044004Z
SEQUENCE:0
UID:141173-3-841ebed20eb198c4569419e99b7bf40a@themidnightzone.com
ORGANIZER;CN="Midnight":midnight@themidnightzone.com
DESCRIPTION:When Damon goes home for a quick trip to get answers from hi
	sfather about his adoption\, Simone drops everything to be hissupport syst
	em. Thea and Nathaniel immerse themselves insorority life by helping with 
	the gala\, but they discoversorority politics are no joke. JR knows what h
	e wants now andis ready to fight for it and Keisha helps push Cam out of h
	iscomfort zone. Meanwhile\, Amara fights for her job as a videoof her crit
	icizing Bringston surfaces.
DTSTART:20220418T210000Z
DTEND:20220418T220000Z
END:VEVENT
END:VCALENDAR
