BEGIN:VCALENDAR
VERSION:2.0
PRODID:-//InvisionCommunity Events 4.7.23//EN
METHOD:PUBLISH
CALSCALE:GREGORIAN
REFRESH-INTERVAL:PT15M
X-PUBLISHED-TTL:PT15M
X-WR-CALNAME:Pogdesign
NAME:Pogdesign
BEGIN:VTIMEZONE
TZID:Europe/London
TZURL:http://tzurl.org/zoneinfo/Europe/London
X-LIC-LOCATION:Europe/London
BEGIN:DAYLIGHT
TZOFFSETFROM:+0000
TZOFFSETTO:+0100
TZNAME:BST
DTSTART:20220327T020000Z
RRULE:FREQ=YEARLY;BYMONTH=3;BYDAY=-1SU
END:DAYLIGHT
BEGIN:STANDARD
TZOFFSETFROM:+0100
TZOFFSETTO:+0000
TZNAME:GMT
DTSTART:20221030T020000Z
RRULE:FREQ=YEARLY;BYMONTH=10;BYDAY=-1SU
END:STANDARD
END:VTIMEZONE
BEGIN:VEVENT
SUMMARY:All American 4x15 - C.R.E.A.M. (Cash Rules Everything Around
	Me)
DTSTAMP:20220405T044004Z
SEQUENCE:0
UID:141179-3-841ebed20eb198c4569419e99b7bf40a@themidnightzone.com
ORGANIZER;CN="Midnight":midnight@themidnightzone.com
DESCRIPTION:After Spencer sees some teammates landing lucrative NIL deal
	s\,his ambitions for them continues to grow. Jordan's newfriendship with s
	ome teammates becomes more complicated than heimagined. Olivia gets a new 
	perspective for her NIL piece afternot giving up and following her gut. As
	her and the crew get anew perspective about their group dynamic from an ou
	tsider.Meanwhile\, Coop jumps to conclusions while protecting someoneat he
	r new job.
DTSTART:20220418T200000Z
DTEND:20220418T210000Z
END:VEVENT
END:VCALENDAR
