BEGIN:VCALENDAR
VERSION:2.0
PRODID:-//InvisionCommunity Events 4.7.23//EN
METHOD:PUBLISH
CALSCALE:GREGORIAN
REFRESH-INTERVAL:PT15M
X-PUBLISHED-TTL:PT15M
X-WR-CALNAME:Pogdesign
NAME:Pogdesign
BEGIN:VTIMEZONE
TZID:Europe/London
TZURL:http://tzurl.org/zoneinfo/Europe/London
X-LIC-LOCATION:Europe/London
BEGIN:DAYLIGHT
TZOFFSETFROM:+0000
TZOFFSETTO:+0100
TZNAME:BST
DTSTART:20220327T020000Z
RRULE:FREQ=YEARLY;BYMONTH=3;BYDAY=-1SU
END:DAYLIGHT
BEGIN:STANDARD
TZOFFSETFROM:+0100
TZOFFSETTO:+0000
TZNAME:GMT
DTSTART:20221030T020000Z
RRULE:FREQ=YEARLY;BYMONTH=10;BYDAY=-1SU
END:STANDARD
END:VTIMEZONE
BEGIN:VEVENT
SUMMARY:Riverdale 6x10 - Chapter One Hundred and Five: Folk Heroes
DTSTAMP:20220406T044003Z
SEQUENCE:0
UID:141245-3-841ebed20eb198c4569419e99b7bf40a@themidnightzone.com
ORGANIZER;CN="Midnight":midnight@themidnightzone.com
DESCRIPTION:To get the town of Riverdale out from under Percival's grip\
	,Archie\, Jughead and Betty devise a plan to turn Archie into amodern-day 
	folk hero by performing a series of impossiblefeats. Meanwhile\, Percival 
	takes aim at Veronica\, Toni andTabitha\, pitting them and their businesse
	s against oneanother. Finally\, after falling ill\, Cheryl makes asurprisi
	ng discovery about herself.
DTSTART:20220417T200000Z
DTEND:20220417T210000Z
END:VEVENT
END:VCALENDAR
