BEGIN:VCALENDAR
VERSION:2.0
PRODID:-//InvisionCommunity Events 4.7.23//EN
METHOD:PUBLISH
CALSCALE:GREGORIAN
REFRESH-INTERVAL:PT15M
X-PUBLISHED-TTL:PT15M
X-WR-CALNAME:Pogdesign
NAME:Pogdesign
BEGIN:VTIMEZONE
TZID:Europe/London
TZURL:http://tzurl.org/zoneinfo/Europe/London
X-LIC-LOCATION:Europe/London
BEGIN:DAYLIGHT
TZOFFSETFROM:+0000
TZOFFSETTO:+0100
TZNAME:BST
DTSTART:20220327T020000Z
RRULE:FREQ=YEARLY;BYMONTH=3;BYDAY=-1SU
END:DAYLIGHT
BEGIN:STANDARD
TZOFFSETFROM:+0100
TZOFFSETTO:+0000
TZNAME:GMT
DTSTART:20221030T020000Z
RRULE:FREQ=YEARLY;BYMONTH=10;BYDAY=-1SU
END:STANDARD
END:VTIMEZONE
BEGIN:VEVENT
SUMMARY:Charmed (2018) 4x7 - Cats and Camels and Elephants\, oh my..
	.
DTSTAMP:20220409T044004Z
SEQUENCE:0
UID:141394-3-841ebed20eb198c4569419e99b7bf40a@themidnightzone.com
ORGANIZER;CN="Midnight":midnight@themidnightzone.com
DESCRIPTION:Mel\, Maggie and Kaela must divide and conquer when they bec
	omeaware of a new\, formidable threat inspired by the Tallyman.Maggie and 
	Harry team up to chase down a lead in a dangerousmagical realm. Mel needs 
	Jordan's help healing a\"creature\" with whom she has a deep emotionalconn
	ection. And Kaela's budding flirtation with Dev mustcontend with a surpris
	e visitor from her past.
DTSTART:20220429T210000Z
DTEND:20220429T220000Z
END:VEVENT
END:VCALENDAR
