BEGIN:VCALENDAR
VERSION:2.0
PRODID:-//InvisionCommunity Events 4.7.23//EN
METHOD:PUBLISH
CALSCALE:GREGORIAN
REFRESH-INTERVAL:PT15M
X-PUBLISHED-TTL:PT15M
X-WR-CALNAME:At My TV
NAME:At My TV
BEGIN:VTIMEZONE
TZID:Europe/London
TZURL:http://tzurl.org/zoneinfo/Europe/London
X-LIC-LOCATION:Europe/London
BEGIN:DAYLIGHT
TZOFFSETFROM:+0000
TZOFFSETTO:+0100
TZNAME:BST
DTSTART:20220327T020000Z
RRULE:FREQ=YEARLY;BYMONTH=3;BYDAY=-1SU
END:DAYLIGHT
BEGIN:STANDARD
TZOFFSETFROM:+0100
TZOFFSETTO:+0000
TZNAME:GMT
DTSTART:20221030T020000Z
RRULE:FREQ=YEARLY;BYMONTH=10;BYDAY=-1SU
END:STANDARD
END:VTIMEZONE
BEGIN:VEVENT
SUMMARY:Saturday Night Live 47x19 - Benedict Cumberbatch / Arcade Fi
	re
DTSTAMP:20220410T083653Z
SEQUENCE:0
UID:141452-2-841ebed20eb198c4569419e99b7bf40a@themidnightzone.com
ORGANIZER;CN="Midnight":midnight@themidnightzone.com
DESCRIPTION:\"Saturday Night Live\" returns on May 7 with second-time 
	hostBenedict Cumberbatch and fifth-time musical guest Arcade Fire.The Acad
	emy Award-nominated actor stars in Marvel Studios'\"Doctor Strange in the 
	Multiverse of Madness\,\" now intheaters. The Grammy Award-winning band's 
	eagerly anticipatedalbum\, \"WE\,\" is out today.
DTSTART:20220508T032900Z
DTEND:20220508T045900Z
END:VEVENT
END:VCALENDAR
