BEGIN:VCALENDAR
VERSION:2.0
PRODID:-//InvisionCommunity Events 4.7.23//EN
METHOD:PUBLISH
CALSCALE:GREGORIAN
REFRESH-INTERVAL:PT15M
X-PUBLISHED-TTL:PT15M
X-WR-CALNAME:Pogdesign
NAME:Pogdesign
BEGIN:VTIMEZONE
TZID:Europe/London
TZURL:http://tzurl.org/zoneinfo/Europe/London
X-LIC-LOCATION:Europe/London
BEGIN:DAYLIGHT
TZOFFSETFROM:+0000
TZOFFSETTO:+0100
TZNAME:BST
DTSTART:20220327T020000Z
RRULE:FREQ=YEARLY;BYMONTH=3;BYDAY=-1SU
END:DAYLIGHT
BEGIN:STANDARD
TZOFFSETFROM:+0100
TZOFFSETTO:+0000
TZNAME:GMT
DTSTART:20221030T020000Z
RRULE:FREQ=YEARLY;BYMONTH=10;BYDAY=-1SU
END:STANDARD
END:VTIMEZONE
BEGIN:VEVENT
SUMMARY:The First Lady 1x2 - Voices Carry
DTSTAMP:20220411T044004Z
SEQUENCE:0
UID:141481-3-841ebed20eb198c4569419e99b7bf40a@themidnightzone.com
ORGANIZER;CN="Midnight":midnight@themidnightzone.com
DESCRIPTION:Moved by the toll the Great Depression has taken on thecount
	ry\, Eleanor presses Franklin to act more boldly andlobbies for an unprece
	dented formal position in theadministration while helping craft his inaugu
	ral address. AfterNixon's resignation\, Jerry assumes the presidency and B
	ettybecomes First Lady days before an important state dinner\,which Jerry'
	s staff try to cancel. In the days leading up toBarack's inauguration\, Mi
	chelle faces opposition from membersof his transition team who plan to dim
	inish her role.
DTSTART:20220424T210000Z
DTEND:20220424T220000Z
END:VEVENT
END:VCALENDAR
