BEGIN:VCALENDAR
VERSION:2.0
PRODID:-//InvisionCommunity Events 4.7.23//EN
METHOD:PUBLISH
CALSCALE:GREGORIAN
REFRESH-INTERVAL:PT15M
X-PUBLISHED-TTL:PT15M
X-WR-CALNAME:Pogdesign
NAME:Pogdesign
BEGIN:VTIMEZONE
TZID:Europe/London
TZURL:http://tzurl.org/zoneinfo/Europe/London
X-LIC-LOCATION:Europe/London
BEGIN:DAYLIGHT
TZOFFSETFROM:+0000
TZOFFSETTO:+0100
TZNAME:BST
DTSTART:20220327T020000Z
RRULE:FREQ=YEARLY;BYMONTH=3;BYDAY=-1SU
END:DAYLIGHT
BEGIN:STANDARD
TZOFFSETFROM:+0100
TZOFFSETTO:+0000
TZNAME:GMT
DTSTART:20221030T020000Z
RRULE:FREQ=YEARLY;BYMONTH=10;BYDAY=-1SU
END:STANDARD
END:VTIMEZONE
BEGIN:VEVENT
SUMMARY:Winning Time: The Rise of the Lakers Dynasty 1x8 - Don't Sto
	p'Til You Get Enough
DTSTAMP:20220411T044004Z
SEQUENCE:0
UID:141483-3-841ebed20eb198c4569419e99b7bf40a@themidnightzone.com
ORGANIZER;CN="Midnight":midnight@themidnightzone.com
DESCRIPTION:As the Lakers continue their successful run\, Paul and Pat a
	reforced to reckon with the tenuous nature of their positions.Then\, Earvi
	n meets his childhood hero at the NBA All-Stargame\, where he receives som
	e sage advice. Jessie convincesJeanie to help shield her father from a dev
	astating truth.
DTSTART:20220424T210000Z
DTEND:20220424T220000Z
END:VEVENT
END:VCALENDAR
