BEGIN:VCALENDAR
VERSION:2.0
PRODID:-//InvisionCommunity Events 4.7.23//EN
METHOD:PUBLISH
CALSCALE:GREGORIAN
REFRESH-INTERVAL:PT15M
X-PUBLISHED-TTL:PT15M
X-WR-CALNAME:Pogdesign
NAME:Pogdesign
BEGIN:VTIMEZONE
TZID:Europe/London
TZURL:http://tzurl.org/zoneinfo/Europe/London
X-LIC-LOCATION:Europe/London
BEGIN:DAYLIGHT
TZOFFSETFROM:+0000
TZOFFSETTO:+0100
TZNAME:BST
DTSTART:20220327T020000Z
RRULE:FREQ=YEARLY;BYMONTH=3;BYDAY=-1SU
END:DAYLIGHT
BEGIN:STANDARD
TZOFFSETFROM:+0100
TZOFFSETTO:+0000
TZNAME:GMT
DTSTART:20221030T020000Z
RRULE:FREQ=YEARLY;BYMONTH=10;BYDAY=-1SU
END:STANDARD
END:VTIMEZONE
BEGIN:VEVENT
SUMMARY:All American: Homecoming 1x9 - Ordinary People
DTSTAMP:20220412T044004Z
SEQUENCE:0
UID:141535-3-841ebed20eb198c4569419e99b7bf40a@themidnightzone.com
ORGANIZER;CN="Midnight":midnight@themidnightzone.com
DESCRIPTION:Simone and the gang rally around Amara as she struggles with
	what to do next as new information comes to light. Coach Marcusis excited 
	about the all-HBCU baseball game he put togetheruntil an old teammate stir
	s up bad memories that could possiblyderail everything. As Damon\, JR and 
	the team are focused onthe game\, they are faced with some challenging gue
	sts and newadversaries. Thea has a close call with danger which costs hero
	ne relationship and brings a potential new one into her life.Meanwhile\, S
	imone struggles to explain to Jordan herfriendship \"break-up\" with Damon
	.
DTSTART:20220425T210000Z
DTEND:20220425T220000Z
END:VEVENT
END:VCALENDAR
