BEGIN:VCALENDAR
VERSION:2.0
PRODID:-//InvisionCommunity Events 4.7.23//EN
METHOD:PUBLISH
CALSCALE:GREGORIAN
REFRESH-INTERVAL:PT15M
X-PUBLISHED-TTL:PT15M
X-WR-CALNAME:Pogdesign
NAME:Pogdesign
BEGIN:VTIMEZONE
TZID:Europe/London
TZURL:http://tzurl.org/zoneinfo/Europe/London
X-LIC-LOCATION:Europe/London
BEGIN:DAYLIGHT
TZOFFSETFROM:+0000
TZOFFSETTO:+0100
TZNAME:BST
DTSTART:20220327T020000Z
RRULE:FREQ=YEARLY;BYMONTH=3;BYDAY=-1SU
END:DAYLIGHT
BEGIN:STANDARD
TZOFFSETFROM:+0100
TZOFFSETTO:+0000
TZNAME:GMT
DTSTART:20221030T020000Z
RRULE:FREQ=YEARLY;BYMONTH=10;BYDAY=-1SU
END:STANDARD
END:VTIMEZONE
BEGIN:VEVENT
SUMMARY:All American 4x16 - Labels
DTSTAMP:20220412T044004Z
SEQUENCE:0
UID:141541-3-841ebed20eb198c4569419e99b7bf40a@themidnightzone.com
ORGANIZER;CN="Midnight":midnight@themidnightzone.com
DESCRIPTION:With some heat on Spencer\, he must figure out what his NILb
	rand\, but he discovers he isn't the only one having a problemwith discove
	ring who they are. Olivia's story makes thingscomplicated for Jordan and p
	otentially for her as well.Patience has a release party for her new album 
	and things getawkward for her and Coop. Billy struggles to balance everyth
	inggoing on with his life. Meanwhile\, Layla and Jordan are forcedto face 
	their past demons when they get locked in Layla'srecording studio\, which 
	tests their friendship.
DTSTART:20220425T200000Z
DTEND:20220425T210000Z
END:VEVENT
END:VCALENDAR
