BEGIN:VCALENDAR
VERSION:2.0
PRODID:-//InvisionCommunity Events 4.7.23//EN
METHOD:PUBLISH
CALSCALE:GREGORIAN
REFRESH-INTERVAL:PT15M
X-PUBLISHED-TTL:PT15M
X-WR-CALNAME:At My TV
NAME:At My TV
BEGIN:VTIMEZONE
TZID:Europe/London
TZURL:http://tzurl.org/zoneinfo/Europe/London
X-LIC-LOCATION:Europe/London
BEGIN:DAYLIGHT
TZOFFSETFROM:+0000
TZOFFSETTO:+0100
TZNAME:BST
DTSTART:20220327T020000Z
RRULE:FREQ=YEARLY;BYMONTH=3;BYDAY=-1SU
END:DAYLIGHT
BEGIN:STANDARD
TZOFFSETFROM:+0100
TZOFFSETTO:+0000
TZNAME:GMT
DTSTART:20221030T020000Z
RRULE:FREQ=YEARLY;BYMONTH=10;BYDAY=-1SU
END:STANDARD
END:VTIMEZONE
BEGIN:VEVENT
SUMMARY:The Great British Sewing Bee 8x1 - Episode 1
DTSTAMP:20220415T083650Z
SEQUENCE:0
UID:141734-2-841ebed20eb198c4569419e99b7bf40a@themidnightzone.com
ORGANIZER;CN="Midnight":midnight@themidnightzone.com
DESCRIPTION:Sara Pascoe welcomes 12 of Britain's most talented home sewe
	rsinto the sewing room\, which is in an historic woollen mill onthe outski
	rts of Leeds. Week One sees judges Patrick Grant andEsme Young ask them to
	 create a capsule wardrobe consisting ofthree items.First\, for the Patter
	n Challenge\, they mustproduce a wool mini skirt with piped patch pockets.
	 For theTransformation Challenge\, the task is to turn lockdownloungewear 
	into a going-out top for an adult\, and in the Madeto Measure\, the sewers
	 must perfectly fit a wrap dress totheir model.One sewer gets off to a fly
	ing start\, beingawarded Garment of the Week\, while another's hopes are d
	ashedas they become the first to be sent home.
DTSTART:20220427T190000Z
DTEND:20220427T200000Z
END:VEVENT
END:VCALENDAR
