BEGIN:VCALENDAR
VERSION:2.0
PRODID:-//InvisionCommunity Events 4.7.23//EN
METHOD:PUBLISH
CALSCALE:GREGORIAN
REFRESH-INTERVAL:PT15M
X-PUBLISHED-TTL:PT15M
X-WR-CALNAME:Pogdesign
NAME:Pogdesign
BEGIN:VTIMEZONE
TZID:Europe/London
TZURL:http://tzurl.org/zoneinfo/Europe/London
X-LIC-LOCATION:Europe/London
BEGIN:DAYLIGHT
TZOFFSETFROM:+0000
TZOFFSETTO:+0100
TZNAME:BST
DTSTART:20220327T020000Z
RRULE:FREQ=YEARLY;BYMONTH=3;BYDAY=-1SU
END:DAYLIGHT
BEGIN:STANDARD
TZOFFSETFROM:+0100
TZOFFSETTO:+0000
TZNAME:GMT
DTSTART:20221030T020000Z
RRULE:FREQ=YEARLY;BYMONTH=10;BYDAY=-1SU
END:STANDARD
END:VTIMEZONE
BEGIN:VEVENT
SUMMARY:Dynasty 5x9 - A Friendly Kiss Between Friends
DTSTAMP:20220416T044004Z
SEQUENCE:0
UID:141761-3-841ebed20eb198c4569419e99b7bf40a@themidnightzone.com
ORGANIZER;CN="Midnight":midnight@themidnightzone.com
DESCRIPTION:As Blake and Cristal attend a Yale reunion\, Blake runs into
	 anold friend\, Sonya\, who has more than just the reunion on hermind. Ale
	xis' launch of her \"miracle cream\" faces aset back and Sam offers his as
	sistance and Adam scrambles toget what Alexis wants. Amanda grows more sus
	picious of Charlieand turns to Culhane for help\, much to his chagrin. Jef
	f wantsto get to the truth of recent events and Fallon is dealt somedisapp
	ointing news.
DTSTART:20220429T210000Z
DTEND:20220429T220000Z
END:VEVENT
END:VCALENDAR
