BEGIN:VCALENDAR
VERSION:2.0
PRODID:-//InvisionCommunity Events 4.7.23//EN
METHOD:PUBLISH
CALSCALE:GREGORIAN
REFRESH-INTERVAL:PT15M
X-PUBLISHED-TTL:PT15M
X-WR-CALNAME:Pogdesign
NAME:Pogdesign
BEGIN:VTIMEZONE
TZID:Europe/London
TZURL:http://tzurl.org/zoneinfo/Europe/London
X-LIC-LOCATION:Europe/London
BEGIN:DAYLIGHT
TZOFFSETFROM:+0000
TZOFFSETTO:+0100
TZNAME:BST
DTSTART:20220327T020000Z
RRULE:FREQ=YEARLY;BYMONTH=3;BYDAY=-1SU
END:DAYLIGHT
BEGIN:STANDARD
TZOFFSETFROM:+0100
TZOFFSETTO:+0000
TZNAME:GMT
DTSTART:20221030T020000Z
RRULE:FREQ=YEARLY;BYMONTH=10;BYDAY=-1SU
END:STANDARD
END:VTIMEZONE
BEGIN:VEVENT
SUMMARY:All American: Homecoming 1x10 - Move On
DTSTAMP:20220419T044003Z
SEQUENCE:0
UID:141913-3-841ebed20eb198c4569419e99b7bf40a@themidnightzone.com
ORGANIZER;CN="Midnight":midnight@themidnightzone.com
DESCRIPTION:Excited about service week\, Simone channels all her volunte
	erefforts into her mentee and gets an idea for a bigger projectand get ass
	istance from some unexpected allies. Damon's questto learn his father's co
	nnection to Celine has some surprisingrevelations. Keisha and Cam get into
	 a conformation makingKeisha realize she needs to continue to focus onself
	-improvement. Still reeling from what happened\, Theadecides to confront h
	er fears. Meanwhile\, Amara learns who isout to get her\, but doesn't seem
	 to get any support from theadministration\, rather she does get support f
	rom someonesurprising.
DTSTART:20220502T210000Z
DTEND:20220502T220000Z
END:VEVENT
END:VCALENDAR
