BEGIN:VCALENDAR
VERSION:2.0
PRODID:-//InvisionCommunity Events 4.7.23//EN
METHOD:PUBLISH
CALSCALE:GREGORIAN
REFRESH-INTERVAL:PT15M
X-PUBLISHED-TTL:PT15M
X-WR-CALNAME:At My TV
NAME:At My TV
BEGIN:VTIMEZONE
TZID:Europe/London
TZURL:http://tzurl.org/zoneinfo/Europe/London
X-LIC-LOCATION:Europe/London
BEGIN:DAYLIGHT
TZOFFSETFROM:+0000
TZOFFSETTO:+0100
TZNAME:BST
DTSTART:20220327T020000Z
RRULE:FREQ=YEARLY;BYMONTH=3;BYDAY=-1SU
END:DAYLIGHT
BEGIN:STANDARD
TZOFFSETFROM:+0100
TZOFFSETTO:+0000
TZNAME:GMT
DTSTART:20221030T020000Z
RRULE:FREQ=YEARLY;BYMONTH=10;BYDAY=-1SU
END:STANDARD
END:VTIMEZONE
BEGIN:VEVENT
SUMMARY:All American 4x17 - Hate Me Now
DTSTAMP:20220419T083649Z
SEQUENCE:0
UID:141984-2-841ebed20eb198c4569419e99b7bf40a@themidnightzone.com
ORGANIZER;CN="Midnight":midnight@themidnightzone.com
DESCRIPTION:Spencer and Olivia are forced to acknowledge how much they h
	avechanged after some quality time together doesn't go smoothlyputting a s
	train on their relationship. On a road trip to SanDiego\, Jordan helps Lay
	la to gain the courage to get theclosure she needs. Asher turns to Billy f
	or advice after hegets a big opportunity that might cost him more than heb
	argained for when it comes to his friendships. Meanwhile\,Coop and Patienc
	e come to an agreement on how to navigate theirnew situation.
DTSTART:20220503T000000Z
DTEND:20220503T010000Z
END:VEVENT
END:VCALENDAR
