BEGIN:VCALENDAR
VERSION:2.0
PRODID:-//InvisionCommunity Events 4.7.23//EN
METHOD:PUBLISH
CALSCALE:GREGORIAN
REFRESH-INTERVAL:PT15M
X-PUBLISHED-TTL:PT15M
X-WR-CALNAME:At My TV
NAME:At My TV
BEGIN:VTIMEZONE
TZID:Europe/London
TZURL:http://tzurl.org/zoneinfo/Europe/London
X-LIC-LOCATION:Europe/London
BEGIN:DAYLIGHT
TZOFFSETFROM:+0000
TZOFFSETTO:+0100
TZNAME:BST
DTSTART:20220327T020000Z
RRULE:FREQ=YEARLY;BYMONTH=3;BYDAY=-1SU
END:DAYLIGHT
BEGIN:STANDARD
TZOFFSETFROM:+0100
TZOFFSETTO:+0000
TZNAME:GMT
DTSTART:20221030T020000Z
RRULE:FREQ=YEARLY;BYMONTH=10;BYDAY=-1SU
END:STANDARD
END:VTIMEZONE
BEGIN:VEVENT
SUMMARY:The Goldbergs (2013) 9x20 - Sunday Chow Fun Day
DTSTAMP:20220421T083648Z
SEQUENCE:0
UID:142111-2-841ebed20eb198c4569419e99b7bf40a@themidnightzone.com
ORGANIZER;CN="Midnight":midnight@themidnightzone.com
DESCRIPTION:With Adam's graduation approaching\, Beverly debates staying
	 onas William Penn Academy's Quaker Warden. Forever butting headswith prin
	cipal Ball\, her choice also affects his decision tostay or not. Meanwhile
	\, Erica tries to get out of theSchwartz's longstanding tradition of dinne
	r together everySunday and the subsequent household chores. She soon reali
	zesthe importance of finding balance between the demands of familyand marr
	iage.
DTSTART:20220505T000000Z
DTEND:20220505T003000Z
END:VEVENT
END:VCALENDAR
