BEGIN:VCALENDAR
VERSION:2.0
PRODID:-//InvisionCommunity Events 4.7.23//EN
METHOD:PUBLISH
CALSCALE:GREGORIAN
REFRESH-INTERVAL:PT15M
X-PUBLISHED-TTL:PT15M
X-WR-CALNAME:At My TV
NAME:At My TV
BEGIN:VTIMEZONE
TZID:Europe/London
TZURL:http://tzurl.org/zoneinfo/Europe/London
X-LIC-LOCATION:Europe/London
BEGIN:DAYLIGHT
TZOFFSETFROM:+0000
TZOFFSETTO:+0100
TZNAME:BST
DTSTART:20220327T020000Z
RRULE:FREQ=YEARLY;BYMONTH=3;BYDAY=-1SU
END:DAYLIGHT
BEGIN:STANDARD
TZOFFSETFROM:+0100
TZOFFSETTO:+0000
TZNAME:GMT
DTSTART:20221030T020000Z
RRULE:FREQ=YEARLY;BYMONTH=10;BYDAY=-1SU
END:STANDARD
END:VTIMEZONE
BEGIN:VEVENT
SUMMARY:Pawn Stars 20x3 - Pawned Lightnin'
DTSTAMP:20220425T083645Z
SEQUENCE:0
UID:142321-2-841ebed20eb198c4569419e99b7bf40a@themidnightzone.com
ORGANIZER;CN="Midnight":midnight@themidnightzone.com
DESCRIPTION:Rick and Corey race to San Diego to take a spin in the class
	iccar Hell's Chariot\, from the movie Grease. Is the flaminghotrod the one
	 that they want\, or will they \"drop out\" of thedeal? Then\, Chum takes 
	a whack at a Punch-A-Bag game onceplayed by Jack Dempsey.  Will he score 
	big\, or will he getKO'd? Meanwhile\, will Rick see red when he hears the 
	askingprice for a set of University of Alabama school rings? Andlater\, wi
	ll a set of Three Stooges trading cards have Chumlaughing all the way to t
	he bank\, or will his offer be aslapstick in the face?
DTSTART:20220508T010000Z
DTEND:20220508T020000Z
END:VEVENT
END:VCALENDAR
