BEGIN:VCALENDAR
VERSION:2.0
PRODID:-//InvisionCommunity Events 4.7.23//EN
METHOD:PUBLISH
CALSCALE:GREGORIAN
REFRESH-INTERVAL:PT15M
X-PUBLISHED-TTL:PT15M
X-WR-CALNAME:At My TV
NAME:At My TV
BEGIN:VTIMEZONE
TZID:Europe/London
TZURL:http://tzurl.org/zoneinfo/Europe/London
X-LIC-LOCATION:Europe/London
BEGIN:DAYLIGHT
TZOFFSETFROM:+0000
TZOFFSETTO:+0100
TZNAME:BST
DTSTART:20220327T020000Z
RRULE:FREQ=YEARLY;BYMONTH=3;BYDAY=-1SU
END:DAYLIGHT
BEGIN:STANDARD
TZOFFSETFROM:+0100
TZOFFSETTO:+0000
TZNAME:GMT
DTSTART:20221030T020000Z
RRULE:FREQ=YEARLY;BYMONTH=10;BYDAY=-1SU
END:STANDARD
END:VTIMEZONE
BEGIN:VEVENT
SUMMARY:MasterChef 18x19 - Episode 19
DTSTAMP:20220425T083645Z
SEQUENCE:0
UID:142369-2-841ebed20eb198c4569419e99b7bf40a@themidnightzone.com
ORGANIZER;CN="Midnight":midnight@themidnightzone.com
DESCRIPTION:Over centuries\, chefs have created dishes in honour of grea
	tpeople that have inspired them\, from the peach Melba to thebeef Wellingt
	on. This year's five finalists must each create adish inspired by a public
	 figure or an artwork\, film\, song\,TV series or book. This plate of food
	 must tell a story\, andthe contestants must strive to make it as extraord
	inary as theinspiration behind it. At the end of this challenge\, one ofth
	em will be eliminated from the competition.The secondchallenge takes the r
	emaining four cooks to the Emerald Isle.Situated in the south west of Irel
	and\, Ballymaloe House andCookery School is where chefs from all over the 
	world come tolearn the philosophy put forth by the late\, great patron ofI
	rish cuisine\, Myrtle Allen. Led by the school's renownedfounders\, Darina
	 Allen and Rory O'Connell\, the contestantsget an incredible whirlwind edu
	cation in local Irish produceand the ethos of ‘farm to table'. Then they
	 must useeverything they have learned to prepare a celebratory dinnerfor s
	ome of Ireland's finest food producers and foodhistorians\, and for relati
	ves of Myrtle\, all of whom arecontinuing her legacy.
DTSTART:20220503T190000Z
DTEND:20220503T194100Z
END:VEVENT
END:VCALENDAR
