BEGIN:VCALENDAR
VERSION:2.0
PRODID:-//InvisionCommunity Events 4.7.23//EN
METHOD:PUBLISH
CALSCALE:GREGORIAN
REFRESH-INTERVAL:PT15M
X-PUBLISHED-TTL:PT15M
X-WR-CALNAME:At My TV
NAME:At My TV
BEGIN:VTIMEZONE
TZID:Europe/London
TZURL:http://tzurl.org/zoneinfo/Europe/London
X-LIC-LOCATION:Europe/London
BEGIN:DAYLIGHT
TZOFFSETFROM:+0000
TZOFFSETTO:+0100
TZNAME:BST
DTSTART:20220327T020000Z
RRULE:FREQ=YEARLY;BYMONTH=3;BYDAY=-1SU
END:DAYLIGHT
BEGIN:STANDARD
TZOFFSETFROM:+0100
TZOFFSETTO:+0000
TZNAME:GMT
DTSTART:20221030T020000Z
RRULE:FREQ=YEARLY;BYMONTH=10;BYDAY=-1SU
END:STANDARD
END:VTIMEZONE
BEGIN:VEVENT
SUMMARY:Marvel Studios: Assembled 1x9 - The Making of Moon Knight
DTSTAMP:20220427T083645Z
SEQUENCE:0
UID:142520-2-841ebed20eb198c4569419e99b7bf40a@themidnightzone.com
ORGANIZER;CN="Midnight":midnight@themidnightzone.com
DESCRIPTION:Join the likes of Oscar Isaac and Ethan Hawke as they reveal
	how Marvel Studios' Moon Knight was painstakingly brought tolife. Through 
	insightful interviews with cast and crew\, alongwith immersive footage fro
	m the set\, ASSEMBLED pulls back thecurtain on this groundbreaking series.
	 Additionally\, TheMaking of Moon Knight incorporates a candid \"roundtabl
	ediscussion\" with the series' directors.
DTSTART:20220525T040000Z
DTEND:20220525T045900Z
END:VEVENT
END:VCALENDAR
