BEGIN:VCALENDAR
VERSION:2.0
PRODID:-//InvisionCommunity Events 4.7.23//EN
METHOD:PUBLISH
CALSCALE:GREGORIAN
REFRESH-INTERVAL:PT15M
X-PUBLISHED-TTL:PT15M
X-WR-CALNAME:At My TV
NAME:At My TV
BEGIN:VTIMEZONE
TZID:Europe/London
TZURL:http://tzurl.org/zoneinfo/Europe/London
X-LIC-LOCATION:Europe/London
BEGIN:DAYLIGHT
TZOFFSETFROM:+0000
TZOFFSETTO:+0100
TZNAME:BST
DTSTART:20220327T020000Z
RRULE:FREQ=YEARLY;BYMONTH=3;BYDAY=-1SU
END:DAYLIGHT
BEGIN:STANDARD
TZOFFSETFROM:+0100
TZOFFSETTO:+0000
TZNAME:GMT
DTSTART:20221030T020000Z
RRULE:FREQ=YEARLY;BYMONTH=10;BYDAY=-1SU
END:STANDARD
END:VTIMEZONE
BEGIN:VEVENT
SUMMARY:Naomi 1x12 - Ready or Not
DTSTAMP:20220427T083645Z
SEQUENCE:0
UID:142534-2-841ebed20eb198c4569419e99b7bf40a@themidnightzone.com
ORGANIZER;CN="Midnight":midnight@themidnightzone.com
DESCRIPTION:In the first episode of the two-part season finale\, afterha
	ving visions from her brief time on Earth-29\, Naomi (KaciWalfall) seeks t
	he advice of her protectors - Dee (AlexanderWraith)\, Zumbado (Cranston Jo
	hnson)\, Greg (Barry Watson)\,Jen (Mouzam Makkar) and Akira (guest star St
	ephanie March) -but no one can agree on a plan...and Naomi feels sidelined
	 indecisions about her own future. After Naomi receives a specialgift from
	 Akira\, she sets off on a road trip with Annabelle(Mary-Charles Jones) in
	 search of a specific place from a newvision...but something is tracking t
	hem closely. Meanwhile\,Anthony's (Will Meyers) attempt to get Naomi's att
	ention byrevisiting the \"Superman stunt\" results in an unlikely alliance
	with Lourdes (Camila Moreno) ...but danger looms the closerthey get to the
	 truth.\n\n 
DTSTART:20220511T000000Z
DTEND:20220511T010000Z
END:VEVENT
END:VCALENDAR
