BEGIN:VCALENDAR
VERSION:2.0
PRODID:-//InvisionCommunity Events 4.7.23//EN
METHOD:PUBLISH
CALSCALE:GREGORIAN
REFRESH-INTERVAL:PT15M
X-PUBLISHED-TTL:PT15M
X-WR-CALNAME:At My TV
NAME:At My TV
BEGIN:VTIMEZONE
TZID:Europe/London
TZURL:http://tzurl.org/zoneinfo/Europe/London
X-LIC-LOCATION:Europe/London
BEGIN:DAYLIGHT
TZOFFSETFROM:+0000
TZOFFSETTO:+0100
TZNAME:BST
DTSTART:20220327T020000Z
RRULE:FREQ=YEARLY;BYMONTH=3;BYDAY=-1SU
END:DAYLIGHT
BEGIN:STANDARD
TZOFFSETFROM:+0100
TZOFFSETTO:+0000
TZNAME:GMT
DTSTART:20221030T020000Z
RRULE:FREQ=YEARLY;BYMONTH=10;BYDAY=-1SU
END:STANDARD
END:VTIMEZONE
BEGIN:VEVENT
SUMMARY:Star Trek: Strange New Worlds 1x2 - Children of the Comet
DTSTAMP:20220428T083644Z
SEQUENCE:0
UID:142583-2-841ebed20eb198c4569419e99b7bf40a@themidnightzone.com
ORGANIZER;CN="Midnight":midnight@themidnightzone.com
DESCRIPTION:While on a survey mission\, the U.S.S. Enterprise discovers 
	acomet is going to strike an inhabited planet. They try tore-route the com
	et\, only to find that an ancient alien relicburied on the comet's icy sur
	face is somehow stopping them. Asthe away team try to unlock the relic's s
	ecrets\, Pike andNumber One deal with a group of zealots who want to preve
	nt theU.S.S. Enterprise from interfering.
DTSTART:20220512T040000Z
DTEND:20220512T050000Z
END:VEVENT
END:VCALENDAR
