BEGIN:VCALENDAR
VERSION:2.0
PRODID:-//InvisionCommunity Events 4.7.23//EN
METHOD:PUBLISH
CALSCALE:GREGORIAN
REFRESH-INTERVAL:PT15M
X-PUBLISHED-TTL:PT15M
X-WR-CALNAME:At My TV
NAME:At My TV
BEGIN:VTIMEZONE
TZID:Europe/London
TZURL:http://tzurl.org/zoneinfo/Europe/London
X-LIC-LOCATION:Europe/London
BEGIN:DAYLIGHT
TZOFFSETFROM:+0000
TZOFFSETTO:+0100
TZNAME:BST
DTSTART:20220327T020000Z
RRULE:FREQ=YEARLY;BYMONTH=3;BYDAY=-1SU
END:DAYLIGHT
BEGIN:STANDARD
TZOFFSETFROM:+0100
TZOFFSETTO:+0000
TZNAME:GMT
DTSTART:20221030T020000Z
RRULE:FREQ=YEARLY;BYMONTH=10;BYDAY=-1SU
END:STANDARD
END:VTIMEZONE
BEGIN:VEVENT
SUMMARY:The Kitchen 30x17 - Mom-spirational Meals
DTSTAMP:20220429T083643Z
SEQUENCE:0
UID:142695-2-841ebed20eb198c4569419e99b7bf40a@themidnightzone.com
ORGANIZER;CN="Midnight":midnight@themidnightzone.com
DESCRIPTION:The Kitchen co-hosts are celebrating the amazing moms in the
	irlives with recipes and crafts inspired by them! GeoffreyZakarian toasts 
	moms with his Rose Elderflower Sangria andwhips up Savory Lamb Sliders. Je
	ff Mauro honors his own motherwith Pam's Shrimp and Pea Pasta\, and Alex G
	uarnaschelli makesher Fresh Griddled Flatbread. Sunny Anderson gets crafty
	 withher DIY Mother's Day gifts\, and Katie Lee Biegel shares hergrandma's
	 award-winning Angel Food Cake recipe!
DTSTART:20220507T150000Z
DTEND:20220507T160000Z
END:VEVENT
END:VCALENDAR
