BEGIN:VCALENDAR
VERSION:2.0
PRODID:-//InvisionCommunity Events 4.7.23//EN
METHOD:PUBLISH
CALSCALE:GREGORIAN
REFRESH-INTERVAL:PT15M
X-PUBLISHED-TTL:PT15M
X-WR-CALNAME:At My TV
NAME:At My TV
BEGIN:VTIMEZONE
TZID:Europe/London
TZURL:http://tzurl.org/zoneinfo/Europe/London
X-LIC-LOCATION:Europe/London
BEGIN:DAYLIGHT
TZOFFSETFROM:+0000
TZOFFSETTO:+0100
TZNAME:BST
DTSTART:20220327T020000Z
RRULE:FREQ=YEARLY;BYMONTH=3;BYDAY=-1SU
END:DAYLIGHT
BEGIN:STANDARD
TZOFFSETFROM:+0100
TZOFFSETTO:+0000
TZNAME:GMT
DTSTART:20221030T020000Z
RRULE:FREQ=YEARLY;BYMONTH=10;BYDAY=-1SU
END:STANDARD
END:VTIMEZONE
BEGIN:VEVENT
SUMMARY:The UnXplained 4x7 - Mysterious Tombs
DTSTAMP:20220430T083644Z
SEQUENCE:0
UID:142736-2-841ebed20eb198c4569419e99b7bf40a@themidnightzone.com
ORGANIZER;CN="Midnight":midnight@themidnightzone.com
DESCRIPTION:Throughout history humans have buried their dead--in caves o
	rchambers\, in pyramids or in some form of a tomb--but why?Ancient tombs w
	ere visual memorials for the dead. In China\, avast necropolis was constru
	cted as a way to connect to theafterlife. Is there an inherit need for us 
	to dig up our past?What is it that we are searching for? And what profound
	 secretsmight remain hidden in tombs? That is what we will try to findout.
DTSTART:20220514T010000Z
DTEND:20220514T020000Z
END:VEVENT
END:VCALENDAR
