BEGIN:VCALENDAR
VERSION:2.0
PRODID:-//InvisionCommunity Events 4.7.23//EN
METHOD:PUBLISH
CALSCALE:GREGORIAN
REFRESH-INTERVAL:PT15M
X-PUBLISHED-TTL:PT15M
X-WR-CALNAME:At My TV
NAME:At My TV
BEGIN:VTIMEZONE
TZID:Europe/London
TZURL:http://tzurl.org/zoneinfo/Europe/London
X-LIC-LOCATION:Europe/London
BEGIN:DAYLIGHT
TZOFFSETFROM:+0000
TZOFFSETTO:+0100
TZNAME:BST
DTSTART:20220327T020000Z
RRULE:FREQ=YEARLY;BYMONTH=3;BYDAY=-1SU
END:DAYLIGHT
BEGIN:STANDARD
TZOFFSETFROM:+0100
TZOFFSETTO:+0000
TZNAME:GMT
DTSTART:20221030T020000Z
RRULE:FREQ=YEARLY;BYMONTH=10;BYDAY=-1SU
END:STANDARD
END:VTIMEZONE
BEGIN:VEVENT
SUMMARY:60 Minutes 54x28 - Harvest of War | Eurovision | Birds Aren'
	tReal
DTSTAMP:20220430T083643Z
SEQUENCE:0
UID:142772-2-841ebed20eb198c4569419e99b7bf40a@themidnightzone.com
ORGANIZER;CN="Midnight":midnight@themidnightzone.com
DESCRIPTION:Harvest of War – Nearly half of Ukrainians say they'rewo
	rried about where they'll find their next meal\, according tothe United Na
	tions World Food Programme. Since the start of theconflict\, the World Foo
	d Programme has mobilized food suppliesto 2.5 million people\, and in the 
	weeks to come\, they'repoised to provide relief to six million in the coun
	try. 60MINUTES' Scott Pelley enters Ukraine with David Beasley of theWFP a
	nd follows the organization's efforts to curb the hungercrisis. Pelley rep
	orts that it's not just Ukrainians who aresuffering. Ukraine\, a major whe
	at exporter\, plays a vitalrole in feeding the rest of the world\, and the
	 war has led toan increase in collateral hunger in othercountries. Eurovi
	sion – 60 MINUTES correspondent JonWertheim meets Iceland's contenders
	 for Eurovision\, theworld's largest musical event and a live TV show that
	's a crossbetween the Olympics and \"American Idol.\" Watched by more than
	180 million Europeans each year\, the contest featuresperformers from near
	ly 40 countries who participate in themusic competition. Eurovision has bo
	osted the careers of pastcontestants ABBA\, Celine Dion\, and Julio Iglesi
	as. BirdsAren't Real – The founder of Birds Aren't Real\, PeterMcIndoe
	\, sits down with Sharyn Alfonsi to discuss themovement he launched\, whi
	ch uses satire to mirror some of theabsurdity growing in America. More tha
	n a million people havebecome followers of the fictional conspiracy theory
	 that birdsaren't real. McIndoe shares the backstory to launching themovem
	ent.
DTSTART:20220501T230000Z
DTEND:20220502T000000Z
END:VEVENT
END:VCALENDAR
