BEGIN:VCALENDAR
VERSION:2.0
PRODID:-//InvisionCommunity Events 4.7.23//EN
METHOD:PUBLISH
CALSCALE:GREGORIAN
REFRESH-INTERVAL:PT15M
X-PUBLISHED-TTL:PT15M
X-WR-CALNAME:At My TV
NAME:At My TV
BEGIN:VTIMEZONE
TZID:Europe/London
TZURL:http://tzurl.org/zoneinfo/Europe/London
X-LIC-LOCATION:Europe/London
BEGIN:DAYLIGHT
TZOFFSETFROM:+0000
TZOFFSETTO:+0100
TZNAME:BST
DTSTART:20220327T020000Z
RRULE:FREQ=YEARLY;BYMONTH=3;BYDAY=-1SU
END:DAYLIGHT
BEGIN:STANDARD
TZOFFSETFROM:+0100
TZOFFSETTO:+0000
TZNAME:GMT
DTSTART:20221030T020000Z
RRULE:FREQ=YEARLY;BYMONTH=10;BYDAY=-1SU
END:STANDARD
END:VTIMEZONE
BEGIN:VEVENT
SUMMARY:Big Sky 2x18 - Catch a Few Fish
DTSTAMP:20220506T083640Z
SEQUENCE:0
UID:143176-2-841ebed20eb198c4569419e99b7bf40a@themidnightzone.com
ORGANIZER;CN="Midnight":midnight@themidnightzone.com
DESCRIPTION:In a struggle between head and heart\, final resolutions are
	made as Jenny works to find Travis before he reaches adangerous point of n
	o return. Meanwhile\, Ren and Jag find anew familial bond and decide toget
	her how to handle theirfather now that he's crossed a serious line. After 
	receiving astartling surprise from Scarlett\, Cassie changes the course of
	her quest for justice forever.
DTSTART:20220520T020000Z
DTEND:20220520T025900Z
END:VEVENT
END:VCALENDAR
