BEGIN:VCALENDAR
VERSION:2.0
PRODID:-//InvisionCommunity Events 4.7.23//EN
METHOD:PUBLISH
CALSCALE:GREGORIAN
REFRESH-INTERVAL:PT15M
X-PUBLISHED-TTL:PT15M
X-WR-CALNAME:At My TV
NAME:At My TV
BEGIN:VTIMEZONE
TZID:Europe/London
TZURL:http://tzurl.org/zoneinfo/Europe/London
X-LIC-LOCATION:Europe/London
BEGIN:DAYLIGHT
TZOFFSETFROM:+0000
TZOFFSETTO:+0100
TZNAME:BST
DTSTART:20220327T020000Z
RRULE:FREQ=YEARLY;BYMONTH=3;BYDAY=-1SU
END:DAYLIGHT
BEGIN:STANDARD
TZOFFSETFROM:+0100
TZOFFSETTO:+0000
TZNAME:GMT
DTSTART:20221030T020000Z
RRULE:FREQ=YEARLY;BYMONTH=10;BYDAY=-1SU
END:STANDARD
END:VTIMEZONE
BEGIN:VEVENT
SUMMARY:Top Chef 19x12 - We're on a boat
DTSTAMP:20220506T083640Z
SEQUENCE:0
UID:143189-2-841ebed20eb198c4569419e99b7bf40a@themidnightzone.com
ORGANIZER;CN="Midnight":midnight@themidnightzone.com
DESCRIPTION:After saying goodbye to their loved ones and another fellowc
	ompetitor\, the chefs receive an ominous gift from Tom\, whotells them to 
	get up early and meet him at the docks. They'llhave to find their sea legs
	 quickly because for theirElimination Challenge each chef must create two 
	fresh fishdishes to hook their guest judges Stephanie Izard and DanielBoul
	ud. The catch? They'll be fishing for all of their proteinthemselves.
DTSTART:20220520T000000Z
DTEND:20220520T010000Z
END:VEVENT
END:VCALENDAR
