BEGIN:VCALENDAR
VERSION:2.0
PRODID:-//InvisionCommunity Events 4.7.23//EN
METHOD:PUBLISH
CALSCALE:GREGORIAN
REFRESH-INTERVAL:PT15M
X-PUBLISHED-TTL:PT15M
X-WR-CALNAME:Pogdesign
NAME:Pogdesign
BEGIN:VTIMEZONE
TZID:Europe/London
TZURL:http://tzurl.org/zoneinfo/Europe/London
X-LIC-LOCATION:Europe/London
BEGIN:DAYLIGHT
TZOFFSETFROM:+0000
TZOFFSETTO:+0100
TZNAME:BST
DTSTART:20220327T020000Z
RRULE:FREQ=YEARLY;BYMONTH=3;BYDAY=-1SU
END:DAYLIGHT
BEGIN:STANDARD
TZOFFSETFROM:+0100
TZOFFSETTO:+0000
TZNAME:GMT
DTSTART:20221030T020000Z
RRULE:FREQ=YEARLY;BYMONTH=10;BYDAY=-1SU
END:STANDARD
END:VTIMEZONE
BEGIN:VEVENT
SUMMARY:RuPaul's Drag Race All Stars 7x1 - It's All Winners!
DTSTAMP:20220507T044004Z
SEQUENCE:0
UID:143211-3-841ebed20eb198c4569419e99b7bf40a@themidnightzone.com
ORGANIZER;CN="Midnight":midnight@themidnightzone.com
DESCRIPTION:Eight legendary RuPaul's Drag Race winners have returned tob
	attle for the title of \"Queen of All Queens\".After a raucous reading cha
	llenge and an epic runway sessionwith supermodel Naomi Campbell\, our quee
	ns must put together ashow-stopping performance of RuPaul's song\"Legends\
	". Special Guest Judge Cameron Diaz bringsher star power to the Drag Race 
	panel.
DTSTART:20220520T200000Z
DTEND:20220520T210000Z
END:VEVENT
END:VCALENDAR
