BEGIN:VCALENDAR
VERSION:2.0
PRODID:-//InvisionCommunity Events 4.7.23//EN
METHOD:PUBLISH
CALSCALE:GREGORIAN
REFRESH-INTERVAL:PT15M
X-PUBLISHED-TTL:PT15M
X-WR-CALNAME:At My TV
NAME:At My TV
BEGIN:VTIMEZONE
TZID:Europe/London
TZURL:http://tzurl.org/zoneinfo/Europe/London
X-LIC-LOCATION:Europe/London
BEGIN:DAYLIGHT
TZOFFSETFROM:+0000
TZOFFSETTO:+0100
TZNAME:BST
DTSTART:20220327T020000Z
RRULE:FREQ=YEARLY;BYMONTH=3;BYDAY=-1SU
END:DAYLIGHT
BEGIN:STANDARD
TZOFFSETFROM:+0100
TZOFFSETTO:+0000
TZNAME:GMT
DTSTART:20221030T020000Z
RRULE:FREQ=YEARLY;BYMONTH=10;BYDAY=-1SU
END:STANDARD
END:VTIMEZONE
BEGIN:VEVENT
SUMMARY:Real Time with Bill Maher 20x15 - Rod Stewart\, Ian Bremmer\
	,Jane Harman
DTSTAMP:20220507T083640Z
SEQUENCE:0
UID:143233-2-841ebed20eb198c4569419e99b7bf40a@themidnightzone.com
ORGANIZER;CN="Midnight":midnight@themidnightzone.com
DESCRIPTION:This week features a one-on-one interview with Rod Stewart\,
	legendary\, two-time Rock and Roll Hall of Famer who will belaunching his 
	North American summer tour\, \"The Hits\,\" thisFriday in Las Vegas. This 
	week's panel discussion will includePresident of Eurasia Group and author 
	of the new book \"ThePower of Crisis: How Three Threats – And Our Respon
	se –Will Change The World\,\" Ian Bremmer\; and Jane Harman\, whoserved 
	for six terms in the U.S. House of Representatives andis now a Distinguish
	ed Fellow and President Emerita of TheWilson Center.
DTSTART:20220514T020000Z
DTEND:20220514T030000Z
END:VEVENT
END:VCALENDAR
