BEGIN:VCALENDAR
VERSION:2.0
PRODID:-//InvisionCommunity Events 4.7.23//EN
METHOD:PUBLISH
CALSCALE:GREGORIAN
REFRESH-INTERVAL:PT15M
X-PUBLISHED-TTL:PT15M
X-WR-CALNAME:At My TV
NAME:At My TV
BEGIN:VTIMEZONE
TZID:Europe/London
TZURL:http://tzurl.org/zoneinfo/Europe/London
X-LIC-LOCATION:Europe/London
BEGIN:DAYLIGHT
TZOFFSETFROM:+0000
TZOFFSETTO:+0100
TZNAME:BST
DTSTART:20220327T020000Z
RRULE:FREQ=YEARLY;BYMONTH=3;BYDAY=-1SU
END:DAYLIGHT
BEGIN:STANDARD
TZOFFSETFROM:+0100
TZOFFSETTO:+0000
TZNAME:GMT
DTSTART:20221030T020000Z
RRULE:FREQ=YEARLY;BYMONTH=10;BYDAY=-1SU
END:STANDARD
END:VTIMEZONE
BEGIN:VEVENT
SUMMARY:Tom Swift 1x1 - …And the Liftoff to Saturn
DTSTAMP:20220517T083635Z
SEQUENCE:0
UID:143759-2-841ebed20eb198c4569419e99b7bf40a@themidnightzone.com
ORGANIZER;CN="Midnight":midnight@themidnightzone.com
DESCRIPTION:As an exceptionally brilliant inventor with unlimited resour
	cesand unimaginable wealth\, the devilishly charming Tom Swift isa man who
	 many men would kill to be\, or be with - a man withthe world in the palm 
	of his hand. But that world gets shakento its core after the shocking disa
	ppearance of his father\,thrusting Tom into a breathtaking adventure full 
	of mysteriousconspiracies and unexplained phenomena. On his whirlwind ques
	tto unravel the truth\, Tom finds himself fighting to stay onestep ahead o
	f an Illuminati-scale cabal hellbent on stoppinghim.
DTSTART:20220601T010000Z
DTEND:20220601T020000Z
END:VEVENT
END:VCALENDAR
