BEGIN:VCALENDAR
VERSION:2.0
PRODID:-//InvisionCommunity Events 4.7.23//EN
METHOD:PUBLISH
CALSCALE:GREGORIAN
REFRESH-INTERVAL:PT15M
X-PUBLISHED-TTL:PT15M
X-WR-CALNAME:At My TV
NAME:At My TV
BEGIN:VTIMEZONE
TZID:Europe/London
TZURL:http://tzurl.org/zoneinfo/Europe/London
X-LIC-LOCATION:Europe/London
BEGIN:DAYLIGHT
TZOFFSETFROM:+0000
TZOFFSETTO:+0100
TZNAME:BST
DTSTART:20220327T020000Z
RRULE:FREQ=YEARLY;BYMONTH=3;BYDAY=-1SU
END:DAYLIGHT
BEGIN:STANDARD
TZOFFSETFROM:+0100
TZOFFSETTO:+0000
TZNAME:GMT
DTSTART:20221030T020000Z
RRULE:FREQ=YEARLY;BYMONTH=10;BYDAY=-1SU
END:STANDARD
END:VTIMEZONE
BEGIN:VEVENT
SUMMARY:Symon's Dinners Cooking Out 3x5 - Amping Up the Steaks
DTSTAMP:20220521T083634Z
SEQUENCE:0
UID:143950-2-841ebed20eb198c4569419e99b7bf40a@themidnightzone.com
ORGANIZER;CN="Midnight":midnight@themidnightzone.com
DESCRIPTION:A cup of coffee is a typical way to start the day\, but Mich
	aelSymon is using coffee throughout his whole meal! Starting witha Texas c
	lassic\, his Chicken-Fried Steak with Pepper Gravy hasa hint of coffee and
	 some tobacco-tasting onions. He also makesFresh Mushroom Salad. Michael's
	 wife\, Lizzie\, who swears by amason jar\, uses one to shake up a Cold Br
	ew Martini in aflash. Lastly\, they make a foolproof dessert\, Banana Espr
	essoPudding\, with layers of flavor.
DTSTART:20220604T160000Z
DTEND:20220604T163000Z
END:VEVENT
END:VCALENDAR
