BEGIN:VCALENDAR
VERSION:2.0
PRODID:-//InvisionCommunity Events 4.7.23//EN
METHOD:PUBLISH
CALSCALE:GREGORIAN
REFRESH-INTERVAL:PT15M
X-PUBLISHED-TTL:PT15M
X-WR-CALNAME:At My TV
NAME:At My TV
BEGIN:VTIMEZONE
TZID:Europe/London
TZURL:http://tzurl.org/zoneinfo/Europe/London
X-LIC-LOCATION:Europe/London
BEGIN:DAYLIGHT
TZOFFSETFROM:+0000
TZOFFSETTO:+0100
TZNAME:BST
DTSTART:20220327T020000Z
RRULE:FREQ=YEARLY;BYMONTH=3;BYDAY=-1SU
END:DAYLIGHT
BEGIN:STANDARD
TZOFFSETFROM:+0100
TZOFFSETTO:+0000
TZNAME:GMT
DTSTART:20221030T020000Z
RRULE:FREQ=YEARLY;BYMONTH=10;BYDAY=-1SU
END:STANDARD
END:VTIMEZONE
BEGIN:VEVENT
SUMMARY:American Ninja Warrior 14x1 - Qualifiers 1
DTSTAMP:20220524T083631Z
SEQUENCE:0
UID:144073-2-841ebed20eb198c4569419e99b7bf40a@themidnightzone.com
ORGANIZER;CN="Midnight":midnight@themidnightzone.com
DESCRIPTION:The new season begins with the qualifying rounds in San Anto
	niowith ninjas from across the country taking on the world's mostchallengi
	ng obstacle course. Competitors as young as 15 returnto take on seasoned v
	eterans in this first round of competitionfrom the Alamodome. Four new obs
	tacles will be featured\,including Carnival\, Salmon Roll\, the Serpent an
	d RollerCoaster in addition to the iconic Warped Wall.
DTSTART:20220607T000000Z
DTEND:20220607T020000Z
END:VEVENT
END:VCALENDAR
