BEGIN:VCALENDAR
VERSION:2.0
PRODID:-//InvisionCommunity Events 4.7.23//EN
METHOD:PUBLISH
CALSCALE:GREGORIAN
REFRESH-INTERVAL:PT15M
X-PUBLISHED-TTL:PT15M
X-WR-CALNAME:At My TV
NAME:At My TV
BEGIN:VTIMEZONE
TZID:Europe/London
TZURL:http://tzurl.org/zoneinfo/Europe/London
X-LIC-LOCATION:Europe/London
BEGIN:DAYLIGHT
TZOFFSETFROM:+0000
TZOFFSETTO:+0100
TZNAME:BST
DTSTART:20220327T020000Z
RRULE:FREQ=YEARLY;BYMONTH=3;BYDAY=-1SU
END:DAYLIGHT
BEGIN:STANDARD
TZOFFSETFROM:+0100
TZOFFSETTO:+0000
TZNAME:GMT
DTSTART:20221030T020000Z
RRULE:FREQ=YEARLY;BYMONTH=10;BYDAY=-1SU
END:STANDARD
END:VTIMEZONE
BEGIN:VEVENT
SUMMARY:America's Got Talent 17x2 - Auditions 2
DTSTAMP:20220525T083632Z
SEQUENCE:0
UID:144108-2-841ebed20eb198c4569419e99b7bf40a@themidnightzone.com
ORGANIZER;CN="Midnight":midnight@themidnightzone.com
DESCRIPTION:The auditions continue with creator and executive producerSi
	mon Cowell at the judges' table along with Heidi Klum\, HowieMandel\, Sofi
	a Vergara and host Terry Crews. Variety actsfeaturing contestants of all a
	ges audition for the chance towin the  million prize. The Golden Buzzer is
	 back\, allowinga lucky act the chance to go directly to the live shows to
	compete for America's vote.
DTSTART:20220608T000000Z
DTEND:20220608T020000Z
END:VEVENT
END:VCALENDAR
