BEGIN:VCALENDAR
VERSION:2.0
PRODID:-//InvisionCommunity Events 4.7.23//EN
METHOD:PUBLISH
CALSCALE:GREGORIAN
REFRESH-INTERVAL:PT15M
X-PUBLISHED-TTL:PT15M
X-WR-CALNAME:At My TV
NAME:At My TV
BEGIN:VTIMEZONE
TZID:Europe/London
TZURL:http://tzurl.org/zoneinfo/Europe/London
X-LIC-LOCATION:Europe/London
BEGIN:DAYLIGHT
TZOFFSETFROM:+0000
TZOFFSETTO:+0100
TZNAME:BST
DTSTART:20220327T020000Z
RRULE:FREQ=YEARLY;BYMONTH=3;BYDAY=-1SU
END:DAYLIGHT
BEGIN:STANDARD
TZOFFSETFROM:+0100
TZOFFSETTO:+0000
TZNAME:GMT
DTSTART:20221030T020000Z
RRULE:FREQ=YEARLY;BYMONTH=10;BYDAY=-1SU
END:STANDARD
END:VTIMEZONE
BEGIN:VEVENT
SUMMARY:The Real Housewives of Beverly Hills 12x3 - There's Suttonab
	out Crystal
DTSTAMP:20220525T083632Z
SEQUENCE:0
UID:144118-2-841ebed20eb198c4569419e99b7bf40a@themidnightzone.com
ORGANIZER;CN="Midnight":midnight@themidnightzone.com
DESCRIPTION:Kyle invites her friends to the desert for the launch of her
	new store. Sutton apologizes to Dorit for seeming unsympatheticfollowing h
	er traumatic home invasion. Garcelle urges the womento be up front with ea
	ch other. While Erika and Diana point outthat all their problems share a c
	ommon denominator\, Crystalwinds up triggered by a past offense and Lisa f
	eels they're allmissing the point.
DTSTART:20220526T000000Z
DTEND:20220526T010000Z
END:VEVENT
END:VCALENDAR
