BEGIN:VCALENDAR
VERSION:2.0
PRODID:-//InvisionCommunity Events 4.7.23//EN
METHOD:PUBLISH
CALSCALE:GREGORIAN
REFRESH-INTERVAL:PT15M
X-PUBLISHED-TTL:PT15M
X-WR-CALNAME:At My TV
NAME:At My TV
BEGIN:VTIMEZONE
TZID:Europe/London
TZURL:http://tzurl.org/zoneinfo/Europe/London
X-LIC-LOCATION:Europe/London
BEGIN:DAYLIGHT
TZOFFSETFROM:+0000
TZOFFSETTO:+0100
TZNAME:BST
DTSTART:20220327T020000Z
RRULE:FREQ=YEARLY;BYMONTH=3;BYDAY=-1SU
END:DAYLIGHT
BEGIN:STANDARD
TZOFFSETFROM:+0100
TZOFFSETTO:+0000
TZNAME:GMT
DTSTART:20221030T020000Z
RRULE:FREQ=YEARLY;BYMONTH=10;BYDAY=-1SU
END:STANDARD
END:VTIMEZONE
BEGIN:VEVENT
SUMMARY:Car SOS 17x4 - The Big Cut-Choreography Round
DTSTAMP:20220526T083630Z
SEQUENCE:0
UID:144141-2-841ebed20eb198c4569419e99b7bf40a@themidnightzone.com
ORGANIZER;CN="Midnight":midnight@themidnightzone.com
DESCRIPTION:The fourth week of auditions continues as some dancers movef
	orward to the choreography round and some go home on the hitdance competit
	ion series SO YOU THINK YOU CAN DANCE\, as highlyskilled dancers between t
	he ages of 18 and 30 showcase theirtalents in various dance styles\, inclu
	ding contemporary\,tap\, hip-hop\, ballroom\, animation\, breaking and mor
	e.\n\n\n\n 
DTSTART:20220609T010100Z
DTEND:20220609T020100Z
END:VEVENT
END:VCALENDAR
