BEGIN:VCALENDAR
VERSION:2.0
PRODID:-//InvisionCommunity Events 4.7.23//EN
METHOD:PUBLISH
CALSCALE:GREGORIAN
REFRESH-INTERVAL:PT15M
X-PUBLISHED-TTL:PT15M
X-WR-CALNAME:Pogdesign
NAME:Pogdesign
BEGIN:VTIMEZONE
TZID:Europe/London
TZURL:http://tzurl.org/zoneinfo/Europe/London
X-LIC-LOCATION:Europe/London
BEGIN:DAYLIGHT
TZOFFSETFROM:+0000
TZOFFSETTO:+0100
TZNAME:BST
DTSTART:20220327T020000Z
RRULE:FREQ=YEARLY;BYMONTH=3;BYDAY=-1SU
END:DAYLIGHT
BEGIN:STANDARD
TZOFFSETFROM:+0100
TZOFFSETTO:+0000
TZNAME:GMT
DTSTART:20221030T020000Z
RRULE:FREQ=YEARLY;BYMONTH=10;BYDAY=-1SU
END:STANDARD
END:VTIMEZONE
BEGIN:VEVENT
SUMMARY:Charmed (2018) 4x13 - The End Is Never the End
DTSTAMP:20220528T044005Z
SEQUENCE:0
UID:144204-3-841ebed20eb198c4569419e99b7bf40a@themidnightzone.com
ORGANIZER;CN="Midnight":midnight@themidnightzone.com
DESCRIPTION:Mel\, Maggie and Kaela\, along with Harry and Jordan\, have 
	nowdiscovered that the cabal of foes coalescing to bring down thePower of 
	Three are actually working for an ancient evil that'sbeen laying dormant s
	ince the dawn of magic. This powerful darkforce\, known as the Lost One - 
	will be the ultimate test ofthe strength of the newly discovered sisterhoo
	d\, forcing themto rekindle their connection... or face the destruction of
	magic itself.
DTSTART:20220610T210000Z
DTEND:20220610T220000Z
END:VEVENT
END:VCALENDAR
