BEGIN:VCALENDAR
VERSION:2.0
PRODID:-//InvisionCommunity Events 4.7.23//EN
METHOD:PUBLISH
CALSCALE:GREGORIAN
REFRESH-INTERVAL:PT15M
X-PUBLISHED-TTL:PT15M
X-WR-CALNAME:At My TV
NAME:At My TV
BEGIN:VTIMEZONE
TZID:Europe/London
TZURL:http://tzurl.org/zoneinfo/Europe/London
X-LIC-LOCATION:Europe/London
BEGIN:DAYLIGHT
TZOFFSETFROM:+0000
TZOFFSETTO:+0100
TZNAME:BST
DTSTART:20220327T020000Z
RRULE:FREQ=YEARLY;BYMONTH=3;BYDAY=-1SU
END:DAYLIGHT
BEGIN:STANDARD
TZOFFSETFROM:+0100
TZOFFSETTO:+0000
TZNAME:GMT
DTSTART:20221030T020000Z
RRULE:FREQ=YEARLY;BYMONTH=10;BYDAY=-1SU
END:STANDARD
END:VTIMEZONE
BEGIN:VEVENT
SUMMARY:Symon's Dinners Cooking Out 3x6 - Classic Cleveland \"CityCh
	icken\"
DTSTAMP:20220528T083631Z
SEQUENCE:0
UID:144210-2-841ebed20eb198c4569419e99b7bf40a@themidnightzone.com
ORGANIZER;CN="Midnight":midnight@themidnightzone.com
DESCRIPTION:\"City Chicken\" may hail from the Depression era\, but this
	 mealis anything but dreary. Michael Symon takes the now Midwesternclassic
	 and revives it as Cast Iron Pork Tenderloin. He addsasparagus to grilled\
	, breaded pork and pairs the nutty flavorswith a tangy dressing\, adding h
	orseradish to resurrect thedish and give it a new lease of life. Last but 
	not least\,Michael's wife\, Lizzie\, joins him to make foolproof Mason Jar
	Strawberry Ice Cream.
DTSTART:20220611T160000Z
DTEND:20220611T163000Z
END:VEVENT
END:VCALENDAR
