BEGIN:VCALENDAR
VERSION:2.0
PRODID:-//InvisionCommunity Events 4.7.23//EN
METHOD:PUBLISH
CALSCALE:GREGORIAN
REFRESH-INTERVAL:PT15M
X-PUBLISHED-TTL:PT15M
X-WR-CALNAME:Pogdesign
NAME:Pogdesign
BEGIN:VTIMEZONE
TZID:Europe/London
TZURL:http://tzurl.org/zoneinfo/Europe/London
X-LIC-LOCATION:Europe/London
BEGIN:DAYLIGHT
TZOFFSETFROM:+0000
TZOFFSETTO:+0100
TZNAME:BST
DTSTART:20220327T020000Z
RRULE:FREQ=YEARLY;BYMONTH=3;BYDAY=-1SU
END:DAYLIGHT
BEGIN:STANDARD
TZOFFSETFROM:+0100
TZOFFSETTO:+0000
TZNAME:GMT
DTSTART:20221030T020000Z
RRULE:FREQ=YEARLY;BYMONTH=10;BYDAY=-1SU
END:STANDARD
END:VTIMEZONE
BEGIN:VEVENT
SUMMARY:Guy's Grocery Games 30x2 - DDD Dads
DTSTAMP:20220608T044004Z
SEQUENCE:0
UID:144680-3-841ebed20eb198c4569419e99b7bf40a@themidnightzone.com
ORGANIZER;CN="Midnight":midnight@themidnightzone.com
DESCRIPTION:Guy Fieri invites four great chefs - and even greater dads -
	whose joints he's visited on DDD down to Flavortown Market toshow off thei
	r mad dad chefin' skills. First\, they shop foringredients for a family fa
	vorite\, but not before their kidscall in with some strange ingredient req
	uests! Then Guy treatsthe dads to a full-on father's fun zone of games to 
	determinethe details of their guilty pleasure dish. The dad who cooks upth
	e most delicious dishes will shop the market for up to\,000!
DTSTART:20220608T210000Z
DTEND:20220608T213000Z
END:VEVENT
END:VCALENDAR
