BEGIN:VCALENDAR
VERSION:2.0
PRODID:-//InvisionCommunity Events 4.7.23//EN
METHOD:PUBLISH
CALSCALE:GREGORIAN
REFRESH-INTERVAL:PT15M
X-PUBLISHED-TTL:PT15M
X-WR-CALNAME:At My TV
NAME:At My TV
BEGIN:VTIMEZONE
TZID:Europe/London
TZURL:http://tzurl.org/zoneinfo/Europe/London
X-LIC-LOCATION:Europe/London
BEGIN:DAYLIGHT
TZOFFSETFROM:+0000
TZOFFSETTO:+0100
TZNAME:BST
DTSTART:20220327T020000Z
RRULE:FREQ=YEARLY;BYMONTH=3;BYDAY=-1SU
END:DAYLIGHT
BEGIN:STANDARD
TZOFFSETFROM:+0100
TZOFFSETTO:+0000
TZNAME:GMT
DTSTART:20221030T020000Z
RRULE:FREQ=YEARLY;BYMONTH=10;BYDAY=-1SU
END:STANDARD
END:VTIMEZONE
BEGIN:VEVENT
SUMMARY:Masterchef (US) 12x5 - Winners Mystery Box - Spirit of Vegas
DTSTAMP:20220609T083624Z
SEQUENCE:0
UID:144763-2-841ebed20eb198c4569419e99b7bf40a@themidnightzone.com
ORGANIZER;CN="Midnight":midnight@themidnightzone.com
DESCRIPTION:This week\, the chefs face their first mystery box challenge
	 ofthe season. Season Seven winner\, Vegas restaurant owner andcocktail co
	nnoisseur Shaun O'Neale\, returns to the MASTERCHEFkitchen to dish out the
	 challenge. The chefs have 60 minutes tocook three identical dishes using 
	the spirits they receive intheir mystery box. On the line are immunity or 
	elimination\, asthe chefs compete to create a dish with their respective s
	piritas the star.
DTSTART:20220623T000000Z
DTEND:20220623T010000Z
END:VEVENT
END:VCALENDAR
