BEGIN:VCALENDAR
VERSION:2.0
PRODID:-//InvisionCommunity Events 4.7.23//EN
METHOD:PUBLISH
CALSCALE:GREGORIAN
REFRESH-INTERVAL:PT15M
X-PUBLISHED-TTL:PT15M
X-WR-CALNAME:Pogdesign
NAME:Pogdesign
BEGIN:VTIMEZONE
TZID:Europe/London
TZURL:http://tzurl.org/zoneinfo/Europe/London
X-LIC-LOCATION:Europe/London
BEGIN:DAYLIGHT
TZOFFSETFROM:+0000
TZOFFSETTO:+0100
TZNAME:BST
DTSTART:20220327T020000Z
RRULE:FREQ=YEARLY;BYMONTH=3;BYDAY=-1SU
END:DAYLIGHT
BEGIN:STANDARD
TZOFFSETFROM:+0100
TZOFFSETTO:+0000
TZNAME:GMT
DTSTART:20221030T020000Z
RRULE:FREQ=YEARLY;BYMONTH=10;BYDAY=-1SU
END:STANDARD
END:VTIMEZONE
BEGIN:VEVENT
SUMMARY:The Summer I Turned Pretty 1x7 - Summer Love
DTSTAMP:20220612T044003Z
SEQUENCE:0
UID:144883-3-841ebed20eb198c4569419e99b7bf40a@themidnightzone.com
ORGANIZER;CN="Midnight":midnight@themidnightzone.com
DESCRIPTION:The debutante ball is here\, but Belly's big night is almost
	ruined when Jeremiah learns the secret his mother has beenkeeping all summ
	er. When Belly's left alone on the dancefloor\, someone else steps in to s
	ave the day. With Susannahand Laurel's secret out in the open\, the season
	 ends with apromise from Susannah and the confession from Conrad that Bell
	yhas been waiting for all summer.
DTSTART:20220623T235900Z
DTEND:20220624T005900Z
END:VEVENT
END:VCALENDAR
