BEGIN:VCALENDAR
VERSION:2.0
PRODID:-//InvisionCommunity Events 4.7.23//EN
METHOD:PUBLISH
CALSCALE:GREGORIAN
REFRESH-INTERVAL:PT15M
X-PUBLISHED-TTL:PT15M
X-WR-CALNAME:At My TV
NAME:At My TV
BEGIN:VTIMEZONE
TZID:Europe/London
TZURL:http://tzurl.org/zoneinfo/Europe/London
X-LIC-LOCATION:Europe/London
BEGIN:DAYLIGHT
TZOFFSETFROM:+0000
TZOFFSETTO:+0100
TZNAME:BST
DTSTART:20220327T020000Z
RRULE:FREQ=YEARLY;BYMONTH=3;BYDAY=-1SU
END:DAYLIGHT
BEGIN:STANDARD
TZOFFSETFROM:+0100
TZOFFSETTO:+0000
TZNAME:GMT
DTSTART:20221030T020000Z
RRULE:FREQ=YEARLY;BYMONTH=10;BYDAY=-1SU
END:STANDARD
END:VTIMEZONE
BEGIN:VEVENT
SUMMARY:The Great Food Truck Race 15x4 - Teams Fall Apart From Withi
	n
DTSTAMP:20220613T083622Z
SEQUENCE:0
UID:144939-2-841ebed20eb198c4569419e99b7bf40a@themidnightzone.com
ORGANIZER;CN="Midnight":midnight@themidnightzone.com
DESCRIPTION:In Redondo Beach\, Calif.\, special guest food truck andall-
	star season runner-up Seoul Sausage challenges the teams tocraft a game-ch
	anging box lunch and sell it on the boardwalk.Sales improve for most of th
	e food trucks\, with one truckselling more than they've sold in the entire
	 race. But one teamstruggles with sales -- and with each other\, forcing T
	ylerFlorence to pay them a visit and lead a makeshift therapysession.
DTSTART:20220627T010000Z
DTEND:20220627T020000Z
END:VEVENT
END:VCALENDAR
