BEGIN:VCALENDAR
VERSION:2.0
PRODID:-//InvisionCommunity Events 4.7.23//EN
METHOD:PUBLISH
CALSCALE:GREGORIAN
REFRESH-INTERVAL:PT15M
X-PUBLISHED-TTL:PT15M
X-WR-CALNAME:Pogdesign
NAME:Pogdesign
BEGIN:VTIMEZONE
TZID:Europe/London
TZURL:http://tzurl.org/zoneinfo/Europe/London
X-LIC-LOCATION:Europe/London
BEGIN:DAYLIGHT
TZOFFSETFROM:+0000
TZOFFSETTO:+0100
TZNAME:BST
DTSTART:20220327T020000Z
RRULE:FREQ=YEARLY;BYMONTH=3;BYDAY=-1SU
END:DAYLIGHT
BEGIN:STANDARD
TZOFFSETFROM:+0100
TZOFFSETTO:+0000
TZNAME:GMT
DTSTART:20221030T020000Z
RRULE:FREQ=YEARLY;BYMONTH=10;BYDAY=-1SU
END:STANDARD
END:VTIMEZONE
BEGIN:VEVENT
SUMMARY:Becoming Elizabeth 1x5 - Necessity Compels Me To Plague You
DTSTAMP:20220627T044004Z
SEQUENCE:0
UID:145546-3-841ebed20eb198c4569419e99b7bf40a@themidnightzone.com
ORGANIZER;CN="Midnight":midnight@themidnightzone.com
DESCRIPTION:Elizabeth\, changed by her experiences\, is determined to no
	tfall into the same traps she did when last she was at Chelsea\,but the re
	turn of Thomas into her life is a new test for her.While the court has bee
	n rocked by Mary's defiance\, the LordSomerset is still more concerned wit
	h raising funds for the warin Scotland. As rebellions spring up across the
	 country\, asecret meeting with the French Ambassador\, without theknowled
	ge of the council or the king\, sees even his closestfriend\, the Lord Dud
	ley\, begin to doubt Somerset's strategy.As the Lord Somerset starts to lo
	se the trust of even thoseclose to him and with the king's growing hatred 
	of him\, Thomassees a chance to end the rule of the brother he believes ha
	salways kept him down. And Elizabeth is key to his plan.
DTSTART:20220710T210000Z
DTEND:20220710T220000Z
END:VEVENT
END:VCALENDAR
