BEGIN:VCALENDAR
VERSION:2.0
PRODID:-//InvisionCommunity Events 4.7.23//EN
METHOD:PUBLISH
CALSCALE:GREGORIAN
REFRESH-INTERVAL:PT15M
X-PUBLISHED-TTL:PT15M
X-WR-CALNAME:At My TV
NAME:At My TV
BEGIN:VTIMEZONE
TZID:Europe/London
TZURL:http://tzurl.org/zoneinfo/Europe/London
X-LIC-LOCATION:Europe/London
BEGIN:DAYLIGHT
TZOFFSETFROM:+0000
TZOFFSETTO:+0100
TZNAME:BST
DTSTART:20220327T020000Z
RRULE:FREQ=YEARLY;BYMONTH=3;BYDAY=-1SU
END:DAYLIGHT
BEGIN:STANDARD
TZOFFSETFROM:+0100
TZOFFSETTO:+0000
TZNAME:GMT
DTSTART:20221030T020000Z
RRULE:FREQ=YEARLY;BYMONTH=10;BYDAY=-1SU
END:STANDARD
END:VTIMEZONE
BEGIN:VEVENT
SUMMARY:Me or the Menu 1x3 - Reality Check\, Please
DTSTAMP:20220701T083613Z
SEQUENCE:0
UID:145720-2-841ebed20eb198c4569419e99b7bf40a@themidnightzone.com
ORGANIZER;CN="Midnight":midnight@themidnightzone.com
DESCRIPTION:Jeanette tells Randi she needs some time away from Leland to
	focus on her career as a travel writer\, leaving Randi tomanage a hectic b
	runch shift on his own. Nate's friends warnhim that he's getting in over h
	is head starting a restaurantwith Kathleen. Nicole and Alan's prospective 
	investor suggeststhey hire a professional chef for their Greenios pop-up e
	vent.James and Jessica argue over Jessica's inability to relinquishcontrol
	 and spend extra money on help when it comes to herresponsibilities at the
	 restaurant\, despite feelingoverworked.
DTSTART:20220715T020000Z
DTEND:20220715T030000Z
END:VEVENT
END:VCALENDAR
