BEGIN:VCALENDAR
VERSION:2.0
PRODID:-//InvisionCommunity Events 4.7.23//EN
METHOD:PUBLISH
CALSCALE:GREGORIAN
REFRESH-INTERVAL:PT15M
X-PUBLISHED-TTL:PT15M
X-WR-CALNAME:At My TV
NAME:At My TV
BEGIN:VTIMEZONE
TZID:Europe/London
TZURL:http://tzurl.org/zoneinfo/Europe/London
X-LIC-LOCATION:Europe/London
BEGIN:DAYLIGHT
TZOFFSETFROM:+0000
TZOFFSETTO:+0100
TZNAME:BST
DTSTART:20220327T020000Z
RRULE:FREQ=YEARLY;BYMONTH=3;BYDAY=-1SU
END:DAYLIGHT
BEGIN:STANDARD
TZOFFSETFROM:+0100
TZOFFSETTO:+0000
TZNAME:GMT
DTSTART:20221030T020000Z
RRULE:FREQ=YEARLY;BYMONTH=10;BYDAY=-1SU
END:STANDARD
END:VTIMEZONE
BEGIN:VEVENT
SUMMARY:Bake Off: The Professionals 5x8 - Episode 8
DTSTAMP:20220702T083612Z
SEQUENCE:0
UID:145787-2-841ebed20eb198c4569419e99b7bf40a@themidnightzone.com
ORGANIZER;CN="Midnight":midnight@themidnightzone.com
DESCRIPTION:Stacey Solomon and Liam Charles present the quarter-final\, 
	andto begin with the teams must create 24 illusion desserts\,tricking the 
	judges into thinking they are about to eat hotdogs. They must also make th
	eir version of a childhoodfavourite for Cherish Finden - the Singapore ice
	-cream sandwich- all in three and a half hours. The chefs then face arolle
	rcoaster ride of a challenge as they create sugar andchocolate theme parks
	\, which must also incorporate desserts.
DTSTART:20220712T190000Z
DTEND:20220712T200000Z
END:VEVENT
END:VCALENDAR
