BEGIN:VCALENDAR
VERSION:2.0
PRODID:-//InvisionCommunity Events 4.7.23//EN
METHOD:PUBLISH
CALSCALE:GREGORIAN
REFRESH-INTERVAL:PT15M
X-PUBLISHED-TTL:PT15M
X-WR-CALNAME:At My TV
NAME:At My TV
BEGIN:VTIMEZONE
TZID:Europe/London
TZURL:http://tzurl.org/zoneinfo/Europe/London
X-LIC-LOCATION:Europe/London
BEGIN:DAYLIGHT
TZOFFSETFROM:+0000
TZOFFSETTO:+0100
TZNAME:BST
DTSTART:20220327T020000Z
RRULE:FREQ=YEARLY;BYMONTH=3;BYDAY=-1SU
END:DAYLIGHT
BEGIN:STANDARD
TZOFFSETFROM:+0100
TZOFFSETTO:+0000
TZNAME:GMT
DTSTART:20221030T020000Z
RRULE:FREQ=YEARLY;BYMONTH=10;BYDAY=-1SU
END:STANDARD
END:VTIMEZONE
BEGIN:VEVENT
SUMMARY:Who Do You Think You Are? (US) 11x2 - Nick Offerman
DTSTAMP:20220703T083612Z
SEQUENCE:0
UID:145800-2-841ebed20eb198c4569419e99b7bf40a@themidnightzone.com
ORGANIZER;CN="Midnight":midnight@themidnightzone.com
DESCRIPTION:Stage\, film\, and television actor Nick Offerman traces his
	family tree\, uncovering ties to the Revolutionary War and thestory of his
	 8x great-grandparents\, who ran a successfultavern in 1700s New York. As 
	his search deepens\, Nick isdismayed to find the unfortunate truth of how 
	his ancestorshandled their relationship with the Mohawk nation as theystru
	ggled to keep their tavern on hotly contested land. 
DTSTART:20220717T230000Z
DTEND:20220718T000000Z
END:VEVENT
END:VCALENDAR
