BEGIN:VCALENDAR
VERSION:2.0
PRODID:-//InvisionCommunity Events 4.7.23//EN
METHOD:PUBLISH
CALSCALE:GREGORIAN
REFRESH-INTERVAL:PT15M
X-PUBLISHED-TTL:PT15M
X-WR-CALNAME:At My TV
NAME:At My TV
BEGIN:VTIMEZONE
TZID:Europe/London
TZURL:http://tzurl.org/zoneinfo/Europe/London
X-LIC-LOCATION:Europe/London
BEGIN:DAYLIGHT
TZOFFSETFROM:+0000
TZOFFSETTO:+0100
TZNAME:BST
DTSTART:20220327T020000Z
RRULE:FREQ=YEARLY;BYMONTH=3;BYDAY=-1SU
END:DAYLIGHT
BEGIN:STANDARD
TZOFFSETFROM:+0100
TZOFFSETTO:+0000
TZNAME:GMT
DTSTART:20221030T020000Z
RRULE:FREQ=YEARLY;BYMONTH=10;BYDAY=-1SU
END:STANDARD
END:VTIMEZONE
BEGIN:VEVENT
SUMMARY:Celebrity Family Feud 8x2 - Salt N-Pepa vs. The Proud Family
	and Bel-Air vs. Saved by the Bell
DTSTAMP:20220704T083612Z
SEQUENCE:0
UID:145842-2-841ebed20eb198c4569419e99b7bf40a@themidnightzone.com
ORGANIZER;CN="Midnight":midnight@themidnightzone.com
DESCRIPTION:Hosted by Steve Harvey\, the first game features GRAMMYAward
	-winning hip-hop group Salt-N-Pepa\, who competes againstthe cast of the \
	"The Proud Family: Louder and Prouder\" to winmoney for their charity. It'
	s a battle in the next game of thenight when the casts from Peacock's \"Be
	l Air\" and \"Saved by theBell\" must fight to see who will reign supreme.
	TeamSalt-N-Pepa\, playing for Feeding America:\n\n• Cheryl \"Salt\"Jam
	es • Sandra \"Pepa\" Denton • Christopher \"Kid\" Reid •Christopher 
	\"Play\" Martin • \"Doug E. Fresh\"VERSUSTeam \"TheProud Family: Louder 
	and Prouder\,\" playing for A Place CalledHome:\n\n• Keke Palmer • Kyl
	a Pratt • Soleil Moon Frye •Paula Jai Parker • Alisa ReyesGAME 2Team
	 \"Bel-Air\,\" playingfor Lupus Foundation of America:\n\n• Adrian Holme
	s • CocoJones • Jordan L. Jones • Cassandra Freeman • OllySholotan
	VERSUSTeam \"Saved by the Bell\,\" playing forMake-A-Wish Foundation of Am
	erica:\n\n• Mario Lopez • DexterDarden • Haskiri Velazquez • Jos
	ie Totah • AlyciaPascual-Peña
DTSTART:20220718T000000Z
DTEND:20220718T010000Z
END:VEVENT
END:VCALENDAR
