BEGIN:VCALENDAR
VERSION:2.0
PRODID:-//InvisionCommunity Events 4.7.23//EN
METHOD:PUBLISH
CALSCALE:GREGORIAN
REFRESH-INTERVAL:PT15M
X-PUBLISHED-TTL:PT15M
X-WR-CALNAME:At My TV
NAME:At My TV
BEGIN:VTIMEZONE
TZID:Europe/London
TZURL:http://tzurl.org/zoneinfo/Europe/London
X-LIC-LOCATION:Europe/London
BEGIN:DAYLIGHT
TZOFFSETFROM:+0000
TZOFFSETTO:+0100
TZNAME:BST
DTSTART:20220327T020000Z
RRULE:FREQ=YEARLY;BYMONTH=3;BYDAY=-1SU
END:DAYLIGHT
BEGIN:STANDARD
TZOFFSETFROM:+0100
TZOFFSETTO:+0000
TZNAME:GMT
DTSTART:20221030T020000Z
RRULE:FREQ=YEARLY;BYMONTH=10;BYDAY=-1SU
END:STANDARD
END:VTIMEZONE
BEGIN:VEVENT
SUMMARY:Two Doors Down 5x4 - Girls' Night
DTSTAMP:20220708T083610Z
SEQUENCE:0
UID:146030-2-841ebed20eb198c4569419e99b7bf40a@themidnightzone.com
ORGANIZER;CN="Midnight":midnight@themidnightzone.com
DESCRIPTION:Alan's off out and Michelle has invited Beth\, Cathy andChri
	stine over for a Girls' Night.Cathy sets the tone bydowning shots and the 
	revelations soon flow about the annoyingthings their men do. But when Beth
	 jokes about Christine'sannoying habit – Christine takes the hump. It ta
	kes Michelleand a negotiation over a cheese toastie for Christine toforgiv
	e Beth.With the tunes now on\, the dancing begins and fora moment it seems
	 as though nothing could come between thesewomen. They even get a bit emot
	ional. And when the girls decideto watch a film\, Cathy jumps in with the 
	suggestion they stickon a porno.
DTSTART:20220719T210000Z
DTEND:20220719T213000Z
END:VEVENT
END:VCALENDAR
