BEGIN:VCALENDAR
VERSION:2.0
PRODID:-//InvisionCommunity Events 4.7.23//EN
METHOD:PUBLISH
CALSCALE:GREGORIAN
REFRESH-INTERVAL:PT15M
X-PUBLISHED-TTL:PT15M
X-WR-CALNAME:At My TV
NAME:At My TV
BEGIN:VTIMEZONE
TZID:Europe/London
TZURL:http://tzurl.org/zoneinfo/Europe/London
X-LIC-LOCATION:Europe/London
BEGIN:DAYLIGHT
TZOFFSETFROM:+0000
TZOFFSETTO:+0100
TZNAME:BST
DTSTART:20220327T020000Z
RRULE:FREQ=YEARLY;BYMONTH=3;BYDAY=-1SU
END:DAYLIGHT
BEGIN:STANDARD
TZOFFSETFROM:+0100
TZOFFSETTO:+0000
TZNAME:GMT
DTSTART:20221030T020000Z
RRULE:FREQ=YEARLY;BYMONTH=10;BYDAY=-1SU
END:STANDARD
END:VTIMEZONE
BEGIN:VEVENT
SUMMARY:Flowers in the Attic: The Origin 1x3 - Part 3: The Murderer
DTSTAMP:20220714T083606Z
SEQUENCE:0
UID:146302-2-841ebed20eb198c4569419e99b7bf40a@themidnightzone.com
ORGANIZER;CN="Midnight":midnight@themidnightzone.com
DESCRIPTION:After a devastating and unimaginable loss that will haunt he
	rfor the rest of time\, Olivia finds both her son and daughterin forbidden
	 relationships. She opposes their unions\, but asshe tries to hold on\, mo
	re destruction finds her and pushesher further to her breaking point. Fina
	lly\, blood is on herhands as an old foe's fate waits to be revealed.
DTSTART:20220724T000000Z
DTEND:20220724T020000Z
END:VEVENT
END:VCALENDAR
