BEGIN:VCALENDAR
VERSION:2.0
PRODID:-//InvisionCommunity Events 4.7.23//EN
METHOD:PUBLISH
CALSCALE:GREGORIAN
REFRESH-INTERVAL:PT15M
X-PUBLISHED-TTL:PT15M
X-WR-CALNAME:At My TV
NAME:At My TV
BEGIN:VTIMEZONE
TZID:Europe/London
TZURL:http://tzurl.org/zoneinfo/Europe/London
X-LIC-LOCATION:Europe/London
BEGIN:DAYLIGHT
TZOFFSETFROM:+0000
TZOFFSETTO:+0100
TZNAME:BST
DTSTART:20220327T020000Z
RRULE:FREQ=YEARLY;BYMONTH=3;BYDAY=-1SU
END:DAYLIGHT
BEGIN:STANDARD
TZOFFSETFROM:+0100
TZOFFSETTO:+0000
TZNAME:GMT
DTSTART:20221030T020000Z
RRULE:FREQ=YEARLY;BYMONTH=10;BYDAY=-1SU
END:STANDARD
END:VTIMEZONE
BEGIN:VEVENT
SUMMARY:Press Your Luck 4x4 - Oh Mylanta!
DTSTAMP:20220715T083606Z
SEQUENCE:0
UID:146356-2-841ebed20eb198c4569419e99b7bf40a@themidnightzone.com
ORGANIZER;CN="Midnight":midnight@themidnightzone.com
DESCRIPTION:Host Elizabeth Banks knows the WHAMMY is up to his old trick
	sand is keeping the energy up as our contestants vie for the bigbucks. Ban
	ks is joined by contestants Clifford Amundson(hometown: Onalaska\, Wiscons
	in)\, Cecily Odiari (hometown: SanJose\, California) and Angela Belden (ho
	metown: West Hills\,California).
DTSTART:20220805T000000Z
DTEND:20220805T010000Z
END:VEVENT
END:VCALENDAR
